BEGIN:VCALENDAR
VERSION:2.0
PRODID:-//wp-events-plugin.com//7.2.3.1//EN
TZID:America/New_York
X-WR-TIMEZONE:America/New_York
BEGIN:VEVENT
UID:2568@cubalibrary.org
DTSTART;TZID=America/New_York:20251209T180000
DTEND;TZID=America/New_York:20251209T190000
DTSTAMP:20251122T174716Z
URL:https://cubalibrary.org/events/adult-craft-10/
SUMMARY:Wine Cork Wreaths
DESCRIPTION:Join us for a craft class and make a small 6.5" wreath and an o
 rnament using wine corks\, ribbon\, beads\, wire and jingle bells. This pr
 ogram is free and open to adults ages 19 & up. Participants should come pr
 epared to thread wire through their corks and string the beads and bells i
 n place. We will also be using hot glue guns. All materials will be provid
 ed. Space is limited and registration is required. Please contact Cuba Lib
 rary at (585) 968-1668\, email cuba@stls.org\, or message us on Facebook t
 o sign up.
ATTACH;FMTTYPE=image/jpeg:https://cubalibrary.org/wp-content/uploads/2025/
 02/Wine-Cork-Wreaths-Instagram-Post.png
CATEGORIES:Craft Classes
LOCATION:Cuba Circulating Library\, 39 East Main Street\, Cuba\, NY\, 14727
 \, United States
X-APPLE-STRUCTURED-LOCATION;VALUE=URI;X-ADDRESS=39 East Main Street\, Cuba\
 , NY\, 14727\, United States;X-APPLE-RADIUS=100;X-TITLE=Cuba Circulating L
 ibrary:geo:0,0
END:VEVENT
BEGIN:VTIMEZONE
TZID:America/New_York
X-LIC-LOCATION:America/New_York
BEGIN:STANDARD
DTSTART:20251102T010000
TZOFFSETFROM:-0400
TZOFFSETTO:-0500
TZNAME:EST
END:STANDARD
END:VTIMEZONE
END:VCALENDAR