BEGIN:VCALENDAR
VERSION:2.0
PRODID:-//wp-events-plugin.com//7.2.3.1//EN
TZID:America/New_York
X-WR-TIMEZONE:America/New_York
BEGIN:VEVENT
UID:2567@cubalibrary.org
DTSTART;TZID=America/New_York:20251113T183000
DTEND;TZID=America/New_York:20251113T193000
DTSTAMP:20251021T192032Z
URL:https://cubalibrary.org/events/adult-craft-9/
SUMMARY:Demystifying AI
DESCRIPTION:Artificial Intelligence is everywhere in the news—but what is
  it really? Join us at the Cuba Library on Thursday\, November 13 at 6:30 
 pm for a straightforward\, no-jargon look at what today’s AI can (and ca
 n’t) do. We’ll explore how AI learns\, why it sometimes “hallucinate
 s” or makes things up\, and what that means for how we use it. The prese
 ntation will touch on real-world applications that affect us all—educati
 on\, jobs\, scams\, and more—and include simple live demonstrations of A
 I in action\, from generating an image to simulating a phone call. Leave w
 ith a clearer understanding of this rapidly changing technology and how to
  navigate it with confidence.
ATTACH;FMTTYPE=image/jpeg:https://cubalibrary.org/wp-content/uploads/2025/
 10/Demystifying-AI-Instagram-Square.png
CATEGORIES:Adult Programs
LOCATION:Cuba Circulating Library\, 39 East Main Street\, Cuba\, NY\, 14727
 \, United States
X-APPLE-STRUCTURED-LOCATION;VALUE=URI;X-ADDRESS=39 East Main Street\, Cuba\
 , NY\, 14727\, United States;X-APPLE-RADIUS=100;X-TITLE=Cuba Circulating L
 ibrary:geo:0,0
END:VEVENT
BEGIN:VTIMEZONE
TZID:America/New_York
X-LIC-LOCATION:America/New_York
BEGIN:STANDARD
DTSTART:20251102T010000
TZOFFSETFROM:-0400
TZOFFSETTO:-0500
TZNAME:EST
END:STANDARD
END:VTIMEZONE
END:VCALENDAR