BEGIN:VCALENDAR
VERSION:2.0
PRODID:-//wp-events-plugin.com//7.2.3.1//EN
TZID:America/New_York
X-WR-TIMEZONE:America/New_York
BEGIN:VEVENT
UID:3619@cubalibrary.org
DTSTART;TZID=America/New_York:20260411T100000
DTEND;TZID=America/New_York:20260411T120000
DTSTAMP:20260323T201634Z
URL:https://cubalibrary.org/events/adult-craft-program-2026-02-14-2026-03-
 14-2026-04-11/
SUMMARY:Adult Paint Along
DESCRIPTION:Adults ages 19 & up are invited to join us Saturday\, April 11 
 at 10 am for a guided step by step class to recreate this nostalgic nightt
 ime scene. No experience needed\, just bring your imagination and a willin
 gness to follow along. All materials will be provided. This class is free\
 , but space is limited and registration is required. Please contact the Cu
 ba Library to sign up at cuba@stls.org\, message us on Facebook\, or call 
 585-968-1668.
ATTACH;FMTTYPE=image/jpeg:https://cubalibrary.org/wp-content/uploads/2026/
 03/Adult-Paint-Along-Instagram-Post.png
CATEGORIES:Craft Classes
LOCATION:Cuba Circulating Library\, 39 East Main Street\, Cuba\, NY\, 14727
 \, United States
X-APPLE-STRUCTURED-LOCATION;VALUE=URI;X-ADDRESS=39 East Main Street\, Cuba\
 , NY\, 14727\, United States;X-APPLE-RADIUS=100;X-TITLE=Cuba Circulating L
 ibrary:geo:0,0
END:VEVENT
BEGIN:VTIMEZONE
TZID:America/New_York
X-LIC-LOCATION:America/New_York
BEGIN:DAYLIGHT
DTSTART:20260308T030000
TZOFFSETFROM:-0500
TZOFFSETTO:-0400
TZNAME:EDT
END:DAYLIGHT
END:VTIMEZONE
END:VCALENDAR