BEGIN:VCALENDAR
VERSION:2.0
PRODID:-//wp-events-plugin.com//7.2.3.1//EN
TZID:America/New_York
X-WR-TIMEZONE:America/New_York
BEGIN:VEVENT
UID:3618@cubalibrary.org
DTSTART;TZID=America/New_York:20260314T100000
DTEND;TZID=America/New_York:20260314T120000
DTSTAMP:20260219T190041Z
URL:https://cubalibrary.org/events/adult-craft-program-2026-02-14-2026-03-
 14/
SUMMARY:Wine Cork Flowers
DESCRIPTION:Adults are invited to sign up for a craft class at the Cuba Lib
 rary on Saturday\, March 14 at 10 a.m. Participants will be provided with 
 all materials to make a daisy and a hyacinth using wine corks\, bamboo dow
 els\, clay pots\, Styrofoam\, moss\, acrylic paint and silk leaves. The cl
 ass is free\, but space is limited and registration is required. Please co
 ntact Cuba Library at (585) 968-1668\, email cuba@stls.org or message us o
 n Facebook to sign up.
ATTACH;FMTTYPE=image/jpeg:https://cubalibrary.org/wp-content/uploads/2026/
 02/Wine-Cork-Flowers-Instagram-Post.png
CATEGORIES:Craft Classes
LOCATION:Cuba Circulating Library\, 39 East Main Street\, Cuba\, NY\, 14727
 \, United States
X-APPLE-STRUCTURED-LOCATION;VALUE=URI;X-ADDRESS=39 East Main Street\, Cuba\
 , NY\, 14727\, United States;X-APPLE-RADIUS=100;X-TITLE=Cuba Circulating L
 ibrary:geo:0,0
END:VEVENT
BEGIN:VTIMEZONE
TZID:America/New_York
X-LIC-LOCATION:America/New_York
BEGIN:DAYLIGHT
DTSTART:20260308T030000
TZOFFSETFROM:-0500
TZOFFSETTO:-0400
TZNAME:EDT
END:DAYLIGHT
END:VTIMEZONE
END:VCALENDAR