BEGIN:VCALENDAR
VERSION:2.0
PRODID:-//wp-events-plugin.com//7.2.3.1//EN
TZID:America/New_York
X-WR-TIMEZONE:America/New_York
BEGIN:VEVENT
UID:3617@cubalibrary.org
DTSTART;TZID=America/New_York:20260214T100000
DTEND;TZID=America/New_York:20260214T120000
DTSTAMP:20260122T194235Z
URL:https://cubalibrary.org/events/adult-craft-program-2026-02-14/
SUMMARY:Heart-Shaped Potholder & small mug rug
DESCRIPTION:Adults are invited to sign up for a basic sewing class at the C
 uba Library on Saturday\, February 14. There will be two shifts to allow m
 ore people to participate in this craft\, so attendees will be asked to ch
 oose either the 10 a.m. or 11 a.m. shift on a first come\, first served ba
 sis. Participants will be guided through the process of sewing a heart-sha
 ped potholder with binding\, and a small mug rug\; the library will provid
 e machines\, thread\, and insulated batting. The class is free\, but parti
 cipants must bring two fat quarters or half yard of fabric & a package of 
 1/2 inch double fold bias binding (please note that if you want to guarant
 ee matching thread\, you should bring that also). Space is limited and reg
 istration is required. Please contact Cuba Library at (585) 968-1668\, ema
 il cuba@stls.org or message us on Facebook to sign up.
ATTACH;FMTTYPE=image/jpeg:https://cubalibrary.org/wp-content/uploads/2025/
 12/Heart-Shaped-Potholder-Instagram-Post.png
CATEGORIES:Craft Classes
LOCATION:Cuba Circulating Library\, 39 East Main Street\, Cuba\, NY\, 14727
 \, United States
X-APPLE-STRUCTURED-LOCATION;VALUE=URI;X-ADDRESS=39 East Main Street\, Cuba\
 , NY\, 14727\, United States;X-APPLE-RADIUS=100;X-TITLE=Cuba Circulating L
 ibrary:geo:0,0
END:VEVENT
BEGIN:VTIMEZONE
TZID:America/New_York
X-LIC-LOCATION:America/New_York
BEGIN:STANDARD
DTSTART:20251102T010000
TZOFFSETFROM:-0400
TZOFFSETTO:-0500
TZNAME:EST
END:STANDARD
END:VTIMEZONE
END:VCALENDAR