BEGIN:VCALENDAR
VERSION:2.0
PRODID:-//wp-events-plugin.com//7.2.3.1//EN
TZID:America/New_York
X-WR-TIMEZONE:America/New_York
BEGIN:VEVENT
UID:3270@cubalibrary.org
DTSTART;TZID=America/New_York:20251125T130000
DTEND;TZID=America/New_York:20251125T150000
DTSTAMP:20251104T212351Z
URL:https://cubalibrary.org/events/afternoon-movie-2/
SUMMARY:Afternoon Movie
DESCRIPTION:Staying in the area for Thanksgiving? Need an activity for the 
 kids? Join us at the Cuba Library on Tuesday\, November 25 at 1 p.m. for a
 n afternoon movie screening. Adventure comes out of the blue. When Papa Sm
 urf is taken by evil wizards Razamel and Gargamel\, Smurfette leads the Sm
 urfs on a mission to the real world to save him. You bring the pillows and
  blankets to get comfortable\, we'll provide the snacks. This program is f
 ree and open to kids of all ages. Please contact Cuba Library at (585) 968
 -1668 or email cuba@stls.org with any questions.
ATTACH;FMTTYPE=image/jpeg:https://cubalibrary.org/wp-content/uploads/2025/
 11/Afternoon-Movie-Smurfs-ig.png
CATEGORIES:Children's Programs
LOCATION:Cuba Circulating Library\, 39 East Main Street\, Cuba\, NY\, 14727
 \, United States
X-APPLE-STRUCTURED-LOCATION;VALUE=URI;X-ADDRESS=39 East Main Street\, Cuba\
 , NY\, 14727\, United States;X-APPLE-RADIUS=100;X-TITLE=Cuba Circulating L
 ibrary:geo:0,0
END:VEVENT
BEGIN:VTIMEZONE
TZID:America/New_York
X-LIC-LOCATION:America/New_York
BEGIN:STANDARD
DTSTART:20251102T010000
TZOFFSETFROM:-0400
TZOFFSETTO:-0500
TZNAME:EST
END:STANDARD
END:VTIMEZONE
END:VCALENDAR