BEGIN:VCALENDAR
VERSION:2.0
PRODID:-//wp-events-plugin.com//7.2.3.1//EN
TZID:America/New_York
X-WR-TIMEZONE:America/New_York
BEGIN:VEVENT
UID:3821@cubalibrary.org
DTSTART;TZID=America/New_York:20260407T130000
DTEND;TZID=America/New_York:20260407T150000
DTSTAMP:20260324T203915Z
URL:https://cubalibrary.org/events/afternoon-movie-3/
SUMMARY:Afternoon Movie
DESCRIPTION:Staying in the area for April Break? Need an activity for the k
 ids? Join us at the Cuba Library on Tuesday\, April 7 at 1 p.m. for an aft
 ernoon movie screening. They're back with a twissst. Brave Officer Judy Ho
 pps and her partner Nick Wilde are still struggling to be taken seriously 
 as detectives - and things only get worse when their off-the-books smuggli
 ng investigation turns into a public disaster. As the Chief threatens to s
 plit them up\, the duo chases down one last clue: a mysterious snake seen 
 near the scene of the crime. You bring the pillows and blankets to get com
 fortable\, we'll provide the snacks. This program is free and open to kids
  of all ages. Please contact Cuba Library at (585) 968-1668 or email cuba@
 stls.org with any questions. 
ATTACH;FMTTYPE=image/jpeg:https://cubalibrary.org/wp-content/uploads/2026/
 03/Afternoon-Movie-Zootopia-2-ig.png
CATEGORIES:Children's Programs
LOCATION:Cuba Circulating Library\, 39 East Main Street\, Cuba\, NY\, 14727
 \, United States
X-APPLE-STRUCTURED-LOCATION;VALUE=URI;X-ADDRESS=39 East Main Street\, Cuba\
 , NY\, 14727\, United States;X-APPLE-RADIUS=100;X-TITLE=Cuba Circulating L
 ibrary:geo:0,0
END:VEVENT
BEGIN:VTIMEZONE
TZID:America/New_York
X-LIC-LOCATION:America/New_York
BEGIN:DAYLIGHT
DTSTART:20260308T030000
TZOFFSETFROM:-0500
TZOFFSETTO:-0400
TZNAME:EDT
END:DAYLIGHT
END:VTIMEZONE
END:VCALENDAR