BEGIN:VCALENDAR
VERSION:2.0
PRODID:-//wp-events-plugin.com//7.2.3.1//EN
TZID:America/New_York
X-WR-TIMEZONE:America/New_York
BEGIN:VEVENT
UID:2324@cubalibrary.org
DTSTART;TZID=America/New_York:20250121T163000
DTEND;TZID=America/New_York:20250121T173000
DTSTAMP:20241028T190146Z
URL:https://cubalibrary.org/events/all-abilities-club-snowmen/
SUMMARY:All Abilities Club: Snowmen!
DESCRIPTION:All Abilities Club at the Cuba Library is designed for adults w
 ith intellectual and developmental disabilities and their caregivers. Come
  enjoy crafts\, songs\, games\, and literacy activities! Groups are welcom
 e. Registration is required. Contact the Cuba Library at 585-968-1668 or c
 uba@stls.org to sign up.\nIn January make a snowman ornament and read snow
 y stories.
ATTACH;FMTTYPE=image/jpeg:https://cubalibrary.org/wp-content/uploads/2024/
 10/All-Abilities-January-Instagram-Post.png
CATEGORIES:Adult Programs
LOCATION:Cuba Circulating Library\, 39 East Main Street\, Cuba\, NY\, 14727
 \, United States
X-APPLE-STRUCTURED-LOCATION;VALUE=URI;X-ADDRESS=39 East Main Street\, Cuba\
 , NY\, 14727\, United States;X-APPLE-RADIUS=100;X-TITLE=Cuba Circulating L
 ibrary:geo:0,0
END:VEVENT
BEGIN:VTIMEZONE
TZID:America/New_York
X-LIC-LOCATION:America/New_York
BEGIN:STANDARD
DTSTART:20241103T010000
TZOFFSETFROM:-0400
TZOFFSETTO:-0500
TZNAME:EST
END:STANDARD
END:VTIMEZONE
END:VCALENDAR