BEGIN:VCALENDAR
VERSION:2.0
PRODID:-//wp-events-plugin.com//7.2.3.1//EN
TZID:America/New_York
X-WR-TIMEZONE:America/New_York
BEGIN:VEVENT
UID:2760@cubalibrary.org
DTSTART;TZID=America/New_York:20250729T183000
DTEND;TZID=America/New_York:20250729T193000
DTSTAMP:20250729T200116Z
URL:https://cubalibrary.org/events/author-talk-fawn-brokaw-doyle/
SUMMARY:Author Talk: Fawn Brokaw Doyle
DESCRIPTION:Join us on Tuesday\, July 29 at 6:30 pm at the Cuba Library for
  an author talk with local author Fawn Brokaw Doyle as she discusses her n
 ovel Salt People of the Cloud Houses.\n\nIn 1625\, the first European chil
 d born in New York was a French girl\, raised among Native Americans\, in 
 a Dutch colony called New Netherland.\nSarah Rapalje is confronted with up
 heavals of war\, navigating love and loss amid shifting allegiances. One p
 eril leads to another\, forcing Sarah to question—are the biggest threat
 s from the Natives\, the English\, or the Dutch West India Company that ha
 s failed to protect New Netherland? She must ensure the survival of her fa
 mily\, but at what costs?\n\nBy day\, Fawn Brokaw Doyle is a design profes
 sional\, wife\, and mother. By night\, she is a genealogist\, historian\, 
 and novelist. Salt People of the Cloud Houses is her debut novel.
ATTACH;FMTTYPE=image/jpeg:https://cubalibrary.org/wp-content/uploads/2025/
 06/Fawn-Doyle-author-talk-sq.png
CATEGORIES:Lecturer/Presenter
LOCATION:Cuba Circulating Library\, 39 East Main Street\, Cuba\, NY\, 14727
 \, United States
X-APPLE-STRUCTURED-LOCATION;VALUE=URI;X-ADDRESS=39 East Main Street\, Cuba\
 , NY\, 14727\, United States;X-APPLE-RADIUS=100;X-TITLE=Cuba Circulating L
 ibrary:geo:0,0
END:VEVENT
BEGIN:VTIMEZONE
TZID:America/New_York
X-LIC-LOCATION:America/New_York
BEGIN:DAYLIGHT
DTSTART:20250309T030000
TZOFFSETFROM:-0500
TZOFFSETTO:-0400
TZNAME:EDT
END:DAYLIGHT
END:VTIMEZONE
END:VCALENDAR