BEGIN:VCALENDAR
VERSION:2.0
PRODID:-//wp-events-plugin.com//7.2.3.1//EN
TZID:America/New_York
X-WR-TIMEZONE:America/New_York
BEGIN:VEVENT
UID:3271@cubalibrary.org
DTSTART;TZID=America/New_York:20251126T100000
DTEND;TZID=America/New_York:20251126T200000
DTSTAMP:20251119T173855Z
URL:https://cubalibrary.org/events/baked-pies-treats-fundraiser/
SUMMARY:Baked Pies & Treats Fundraiser
DESCRIPTION:Don't feel like baking?!? Let the Friends bake for you! \nWedne
 sday November 26th\, Friends of the Cuba Library will be having a Pie & Ba
 ked Treats Fundraiser!!\nPies starting @ $12. Event starts at 10am at the 
 Cuba Circulating Library 'til they are SOLD OUT. Come support your local L
 ibrary and take home a PIE!  or baked good.
ATTACH;FMTTYPE=image/jpeg:https://cubalibrary.org/wp-content/uploads/2025/
 11/Baked-Pie-Fundraiser-Instagram-Post.png
CATEGORIES:Friends of the Library
LOCATION:Cuba Circulating Library\, 39 East Main Street\, Cuba\, NY\, 14727
 \, United States
X-APPLE-STRUCTURED-LOCATION;VALUE=URI;X-ADDRESS=39 East Main Street\, Cuba\
 , NY\, 14727\, United States;X-APPLE-RADIUS=100;X-TITLE=Cuba Circulating L
 ibrary:geo:0,0
END:VEVENT
BEGIN:VTIMEZONE
TZID:America/New_York
X-LIC-LOCATION:America/New_York
BEGIN:STANDARD
DTSTART:20251102T010000
TZOFFSETFROM:-0400
TZOFFSETTO:-0500
TZNAME:EST
END:STANDARD
END:VTIMEZONE
END:VCALENDAR