BEGIN:VCALENDAR
VERSION:2.0
PRODID:-//wp-events-plugin.com//7.2.3.1//EN
TZID:America/New_York
X-WR-TIMEZONE:America/New_York
BEGIN:VEVENT
UID:3351@cubalibrary.org
DTSTART;TZID=America/New_York:20260117T100000
DTEND;TZID=America/New_York:20260117T120000
DTSTAMP:20251230T185458Z
URL:https://cubalibrary.org/events/beaded-plants/
SUMMARY:Beaded Plants
DESCRIPTION:Adults ages 19 & up are invited to join us for a craft program 
 on Saturday\, January 17 at 10 am at the Cuba Library.  Participants wil
 l use wire and small beads to create unique decorations that mimic string 
 of pearls or other small succulents. Get some tips and ideas for stringing
  your beads and use the provided materials to create a plant that anyone c
 an take care of. Be aware that this project does require some hand dexteri
 ty to manipulate the wire and string the small beads. All materials will b
 e provided to create the plant as pictured\, but participants are welcome 
 to bring additional beads if they wish. This program is free\, but space i
 s limited and registration required. Please contact Cuba Library at (585) 
 968-1668\, email cuba@stls.org\, or message us on Facebook.\n\n**Pot will 
 be white and measure approximately 1.6 x 1.8 inches
ATTACH;FMTTYPE=image/jpeg:https://cubalibrary.org/wp-content/uploads/2025/
 12/Beaded-Plants-Instagram-Post.png
CATEGORIES:Craft Classes
LOCATION:Cuba Circulating Library\, 39 East Main Street\, Cuba\, NY\, 14727
 \, United States
X-APPLE-STRUCTURED-LOCATION;VALUE=URI;X-ADDRESS=39 East Main Street\, Cuba\
 , NY\, 14727\, United States;X-APPLE-RADIUS=100;X-TITLE=Cuba Circulating L
 ibrary:geo:0,0
END:VEVENT
BEGIN:VTIMEZONE
TZID:America/New_York
X-LIC-LOCATION:America/New_York
BEGIN:STANDARD
DTSTART:20251102T010000
TZOFFSETFROM:-0400
TZOFFSETTO:-0500
TZNAME:EST
END:STANDARD
END:VTIMEZONE
END:VCALENDAR