BEGIN:VCALENDAR
VERSION:2.0
PRODID:-//wp-events-plugin.com//7.2.3.1//EN
TZID:America/New_York
X-WR-TIMEZONE:America/New_York
BEGIN:VEVENT
UID:3243@cubalibrary.org
DTSTART;TZID=America/New_York:20251011T093000
DTEND;TZID=America/New_York:20251011T120000
DTSTAMP:20250917T185947Z
URL:https://cubalibrary.org/events/berry-basket-weaving/
SUMMARY:Berry Basket Weaving
DESCRIPTION:Adults and teens ages 16 & up are invited to sign up to create 
 a quart berry basket at our basket weaving class on Saturday\, October 11 
 from 9:30 a.m. to 12 p.m. at the Cuba Library. Beginner basket weavers wil
 l have an opportunity to work to complete a 6” x 6” x 4” basket. The
  materials will be provided in the kit and instructions will be both hands
  on and written. Taught by Seneca Traditional Artist\, Penelope S. Minner 
 from the Seneca Nation located on the Allegany Territory in Salamanca. Pen
 ny has been basket weaving with over 27 years of experience with both trad
 itional materials such as the Black ash and other natural fibers found in 
 our region. The EAB (emerald ash borer) has threatened the ash trees that 
 were once plentiful in this area\; Penny enjoys teaching basket making and
  sharing her passion for the art of basket making. Space is limited.\n\n\n
 The Community Arts Grants program is made possible with funds from the Sta
 tewide Community Regrants Program\, a regrant program of the New York Stat
 e Council on the Arts with the support of the Office of the Governor and t
 he New York State Legislature and administered in Allegany and Wyoming cou
 nties by the Arts Council for Wyoming County.
ATTACH;FMTTYPE=image/jpeg:https://cubalibrary.org/wp-content/uploads/2025/
 09/Berry-Basket-Weaving-Instagram-Post.png
CATEGORIES:Craft Classes
LOCATION:Cuba Circulating Library\, 39 East Main Street\, Cuba\, NY\, 14727
 \, United States
X-APPLE-STRUCTURED-LOCATION;VALUE=URI;X-ADDRESS=39 East Main Street\, Cuba\
 , NY\, 14727\, United States;X-APPLE-RADIUS=100;X-TITLE=Cuba Circulating L
 ibrary:geo:0,0
END:VEVENT
BEGIN:VTIMEZONE
TZID:America/New_York
X-LIC-LOCATION:America/New_York
BEGIN:DAYLIGHT
DTSTART:20250309T030000
TZOFFSETFROM:-0500
TZOFFSETTO:-0400
TZNAME:EDT
END:DAYLIGHT
END:VTIMEZONE
END:VCALENDAR