BEGIN:VCALENDAR
VERSION:2.0
PRODID:-//wp-events-plugin.com//7.2.3.1//EN
TZID:America/New_York
X-WR-TIMEZONE:America/New_York
BEGIN:VEVENT
UID:2555@cubalibrary.org
DTSTART;TZID=America/New_York:20250222T130000
DTEND;TZID=America/New_York:20250222T140000
DTSTAMP:20250205T190320Z
URL:https://cubalibrary.org/events/black-history-month-saturday-storytime/
SUMMARY:Black History Month Saturday Storytime
DESCRIPTION:Kids in grades Pre K - 5 are invited for a special Saturday Sto
 rytime on February 22 at 1 pm to celebrate Black History Month. Join Miss 
 Cherilyn as she reads several award winning picture books written and/or i
 llustrated by African American Authors. We will also sing some storytime s
 ongs and make a craft. This program is free but registration is required. 
 Please contact cuba@stls.org\, message us on Facebook\, or call (585) 968-
 1668 to sign up. Please note that parents should plan to stay for the stor
 ytime.
ATTACH;FMTTYPE=image/jpeg:https://cubalibrary.org/wp-content/uploads/2025/
 02/Black-History-Month-Storytime-Instagram-Post.png
CATEGORIES:Story Hours
LOCATION:Cuba Circulating Library\, 39 East Main Street\, Cuba\, NY\, 14727
 \, United States
X-APPLE-STRUCTURED-LOCATION;VALUE=URI;X-ADDRESS=39 East Main Street\, Cuba\
 , NY\, 14727\, United States;X-APPLE-RADIUS=100;X-TITLE=Cuba Circulating L
 ibrary:geo:0,0
END:VEVENT
BEGIN:VTIMEZONE
TZID:America/New_York
X-LIC-LOCATION:America/New_York
BEGIN:STANDARD
DTSTART:20241103T010000
TZOFFSETFROM:-0400
TZOFFSETTO:-0500
TZNAME:EST
END:STANDARD
END:VTIMEZONE
END:VCALENDAR