BEGIN:VCALENDAR
VERSION:2.0
PRODID:-//wp-events-plugin.com//7.2.3.1//EN
TZID:America/New_York
X-WR-TIMEZONE:America/New_York
BEGIN:VEVENT
UID:2771@cubalibrary.org
DTSTART;TZID=America/New_York:20250725T130000
DTEND;TZID=America/New_York:20250725T160000
DTSTAMP:20250708T162539Z
URL:https://cubalibrary.org/events/bls-basic-life-support-training/
SUMMARY:BLS: Basic Life Support Training
DESCRIPTION:Sign up for our BLS: Basic Life Support Training course on Frid
 ay\, July 25 from 1 - 4 pm at the Cuba Library. The Basic Life Support (BL
 S) course provides healthcare providers and public safety professionals th
 e knowledge and skills necessary to respond to breathing and cardiac emerg
 encies in adult child and infant patients. Consistent with the 2015 AHA Gu
 idelines for CPR/ECC BLS is the foundational CPR/AED program typically req
 uired for healthcare providers and public safety professionals. Through th
 e use of lecture skills demonstration practice and case-based emergency re
 sponse scenarios with a focus on team-based response BLS builds the key cr
 itical thinking problem solving and team dynamic skills that are needed to
  drive better patient outcomes. Upon successful completion of the course l
 earners will receive a 2-year Basic Life Support digital certificate with 
 anytime anywhere access to certificate and training history.\n\nRegistrati
 on is required. While geared toward health & safety professionals\, anyone
  ages 14 & up is invited to sign up for the course. There is a $5 fee to a
 ttend. Please contact Cuba Library at (585)968-1668 or email cuba@stls.org
  to sign up.
ATTACH;FMTTYPE=image/jpeg:https://cubalibrary.org/wp-content/uploads/2025/
 07/BLS-Basic-Life-Support-Training-Instagram-Post.png
CATEGORIES:Adult Programs
LOCATION:Cuba Circulating Library\, 39 East Main Street\, Cuba\, NY\, 14727
 \, United States
X-APPLE-STRUCTURED-LOCATION;VALUE=URI;X-ADDRESS=39 East Main Street\, Cuba\
 , NY\, 14727\, United States;X-APPLE-RADIUS=100;X-TITLE=Cuba Circulating L
 ibrary:geo:0,0
END:VEVENT
BEGIN:VTIMEZONE
TZID:America/New_York
X-LIC-LOCATION:America/New_York
BEGIN:DAYLIGHT
DTSTART:20250309T030000
TZOFFSETFROM:-0500
TZOFFSETTO:-0400
TZNAME:EDT
END:DAYLIGHT
END:VTIMEZONE
END:VCALENDAR