BEGIN:VCALENDAR
VERSION:2.0
PRODID:-//wp-events-plugin.com//7.2.3.1//EN
TZID:America/New_York
X-WR-TIMEZONE:America/New_York
BEGIN:VEVENT
UID:3263@cubalibrary.org
DTSTART;TZID=America/New_York:20251105T110000
DTEND;TZID=America/New_York:20251105T123000
DTSTAMP:20251104T212417Z
URL:https://cubalibrary.org/events/caring-through-the-holidays/
SUMMARY:CANCELED _ Caregiving Through the Holidays
DESCRIPTION:When a loved one has dementia\, the holidays can be both joyous
  and stressful. Join us at the Cuba Library on Wednesday\, November 5 at 1
 1 am for a presentation with the Alzheimer's Association. In this free pro
 gram\, we’ll share practical tips to keep your gatherings peaceful and m
 eaningful. This program is free and open to the public but registration is
  requested. Please call (800) 272-3900 or visit bit.ly/AlzCubaNov25.\n\nTh
 is program is arranged through Cuba Library\, but please contact the Alzhe
 imer’s Association if you have any questions about the program.
ATTACH;FMTTYPE=image/jpeg:https://cubalibrary.org/wp-content/uploads/2025/
 10/Caregiving-Through-the-Holidays-Instagram-Post.png
CATEGORIES:Adult Programs
LOCATION:Cuba Circulating Library\, 39 East Main Street\, Cuba\, NY\, 14727
 \, United States
X-APPLE-STRUCTURED-LOCATION;VALUE=URI;X-ADDRESS=39 East Main Street\, Cuba\
 , NY\, 14727\, United States;X-APPLE-RADIUS=100;X-TITLE=Cuba Circulating L
 ibrary:geo:0,0
END:VEVENT
BEGIN:VTIMEZONE
TZID:America/New_York
X-LIC-LOCATION:America/New_York
BEGIN:STANDARD
DTSTART:20251102T010000
TZOFFSETFROM:-0400
TZOFFSETTO:-0500
TZNAME:EST
END:STANDARD
END:VTIMEZONE
END:VCALENDAR