BEGIN:VCALENDAR
VERSION:2.0
PRODID:-//wp-events-plugin.com//7.2.3.1//EN
TZID:America/New_York
X-WR-TIMEZONE:America/New_York
BEGIN:VEVENT
UID:3350@cubalibrary.org
DTSTART;TZID=America/New_York:20251223T110000
DTEND;TZID=America/New_York:20251223T184500
DTSTAMP:20251210T212749Z
URL:https://cubalibrary.org/events/christmas-movie-day/
SUMMARY:Christmas Movie Day
DESCRIPTION:Looking for something to do right before the holidays? We will 
 be playing Christmas movies throughout the day on Tuesday\, December 23 do
 wnstairs in the community room. \n\nMovie Schedule:\n11 am - The Polar Exp
 ress\n\n1 pm - The Grinch (2019 animated)\n\n3 pm - The Santa clause\n\n5 
 pm - Elf\n\nYou are welcome to bring blankets\, snacks\, etc. We will be p
 laying the movies\, but no refreshments will be provided.
ATTACH;FMTTYPE=image/jpeg:https://cubalibrary.org/wp-content/uploads/2025/
 12/Christmas-Movie-Day-Instagram-Square.png
CATEGORIES:Family Programs
LOCATION:Cuba Circulating Library\, 39 East Main Street\, Cuba\, NY\, 14727
 \, United States
X-APPLE-STRUCTURED-LOCATION;VALUE=URI;X-ADDRESS=39 East Main Street\, Cuba\
 , NY\, 14727\, United States;X-APPLE-RADIUS=100;X-TITLE=Cuba Circulating L
 ibrary:geo:0,0
END:VEVENT
BEGIN:VTIMEZONE
TZID:America/New_York
X-LIC-LOCATION:America/New_York
BEGIN:STANDARD
DTSTART:20251102T010000
TZOFFSETFROM:-0400
TZOFFSETTO:-0500
TZNAME:EST
END:STANDARD
END:VTIMEZONE
END:VCALENDAR