BEGIN:VCALENDAR
VERSION:2.0
PRODID:-//wp-events-plugin.com//7.2.3.1//EN
TZID:America/New_York
X-WR-TIMEZONE:America/New_York
BEGIN:VEVENT
UID:2766@cubalibrary.org
DTSTART;TZID=America/New_York:20250729T110000
DTEND;TZID=America/New_York:20250729T120000
DTSTAMP:20250709T184904Z
URL:https://cubalibrary.org/events/communicating-effectively-alzheimers/
SUMMARY:Communicating Effectively (Alzheimer's)
DESCRIPTION:Dementia affects a person's ability to communicate\, making it 
 hard to convey their wants and needs to the people around them. Caregivers
  can learn how to use a person-centered approach to communicate more effec
 tively at any stage of the disease. Join us Tuesday\, July 29 at 11:00 am 
 at Cuba Library to explore how dementia affects communication\, why using 
 a person-centered communication approach is important\, and learn tips for
  communicating with family\, friends and health care professionals. This p
 rogram is arranged through Cuba Library\, but please contact the Alzheimer
 ’s Association if you have any questions about the program. This program
  is free and open to the public but registration is requested. Please call
  (800) 272-3900 or visit https://www.communityresourcefinder.org/ResourceV
 iew/Index?id=3643987 to sign up.
ATTACH;FMTTYPE=image/jpeg:https://cubalibrary.org/wp-content/uploads/2025/
 06/Communicating-Effectively-Instagram-Post.png
LOCATION:Cuba Circulating Library\, 39 East Main Street\, Cuba\, NY\, 14727
 \, United States
X-APPLE-STRUCTURED-LOCATION;VALUE=URI;X-ADDRESS=39 East Main Street\, Cuba\
 , NY\, 14727\, United States;X-APPLE-RADIUS=100;X-TITLE=Cuba Circulating L
 ibrary:geo:0,0
END:VEVENT
BEGIN:VTIMEZONE
TZID:America/New_York
X-LIC-LOCATION:America/New_York
BEGIN:DAYLIGHT
DTSTART:20250309T030000
TZOFFSETFROM:-0500
TZOFFSETTO:-0400
TZNAME:EDT
END:DAYLIGHT
END:VTIMEZONE
END:VCALENDAR