BEGIN:VCALENDAR
VERSION:2.0
PRODID:-//wp-events-plugin.com//7.2.3.1//EN
TZID:America/New_York
X-WR-TIMEZONE:America/New_York
BEGIN:VEVENT
UID:2778@cubalibrary.org
DTSTART;TZID=America/New_York:20250809T110000
DTEND;TZID=America/New_York:20250809T130000
DTSTAMP:20250730T210232Z
URL:https://cubalibrary.org/events/community-arts-grant-seminar/
SUMMARY:Community Arts Grant Seminar
DESCRIPTION:The Arts Council for Wyoming County will be starting their semi
 nars for Community Arts Grants on Saturday\, August 9th 11am-1pm at the Cu
 ba Library! The presentation will include an overview of the applications
  and guidelines. If you are an interested community organization/entity\, 
 an individual artist or a teaching artist\, they will discuss all of their
  grant options. They encourage both new and repeat applicants to attend! 
 Attend in person at the library or through Zoom. Zoom link provided by ema
 il request to tom@artswyco.org.
ATTACH;FMTTYPE=image/jpeg:https://cubalibrary.org/wp-content/uploads/2025/
 07/Community-arts-Grant-Seminar-Instagram-Post.png
CATEGORIES:Lecturer/Presenter
LOCATION:Cuba Circulating Library\, 39 East Main Street\, Cuba\, NY\, 14727
 \, United States
X-APPLE-STRUCTURED-LOCATION;VALUE=URI;X-ADDRESS=39 East Main Street\, Cuba\
 , NY\, 14727\, United States;X-APPLE-RADIUS=100;X-TITLE=Cuba Circulating L
 ibrary:geo:0,0
END:VEVENT
BEGIN:VTIMEZONE
TZID:America/New_York
X-LIC-LOCATION:America/New_York
BEGIN:DAYLIGHT
DTSTART:20250309T030000
TZOFFSETFROM:-0500
TZOFFSETTO:-0400
TZNAME:EDT
END:DAYLIGHT
END:VTIMEZONE
END:VCALENDAR