BEGIN:VCALENDAR
VERSION:2.0
PRODID:-//wp-events-plugin.com//7.2.3.1//EN
TZID:America/New_York
X-WR-TIMEZONE:America/New_York
BEGIN:VEVENT
UID:3244@cubalibrary.org
DTSTART;TZID=America/New_York:20251009T180000
DTEND;TZID=America/New_York:20251009T200000
DTSTAMP:20250918T190053Z
URL:https://cubalibrary.org/events/costume-creation-tips/
SUMMARY:Costume Creation Tips
DESCRIPTION:Make-up\, prosthetics\, props\, and masks\, oh my! These can ra
 ise costuming to elicit the response you are looking for. Teens and adults
  (ages 13 & up) are invited to come to the Cuba Library on Thursday\, Octo
 ber 9 from 6 - 8 pm to play\, build and experiment to create the look you 
 want without the expense of purchasing a generic costume. From armor const
 ructed using painted decorative foam attached to shoulder pads to fabric t
 hat gives the illusion of chain mail\, costumes can be constructed using a
  variety of materials around your home. A shield can be constructed with c
 ardboard\, a packing foam sheet\, pipe insulation\, webbing (for the grips
 ) and duct tape. Daggers and swords can be made out of pool noodles\, PVC 
 pipe duct tape and foam\, sword hangers from cardboard\, leather or facsim
 ile. Another costume required only decorative touches to clothing hanging 
 in the closet. It was a big hit with the cast of One Piece. Bring material
 s you wish to work with\, or use what we have available. Space is limited 
 and registration is required so please contact Cuba Library at (585)968-16
 68 or email cuba@stls.org to sign up.\n
ATTACH;FMTTYPE=image/jpeg:https://cubalibrary.org/wp-content/uploads/2025/
 09/Costume-Creation-Tips-Instagram-Post-1.png
CATEGORIES:Craft Classes
LOCATION:Cuba Circulating Library\, 39 East Main Street\, Cuba\, NY\, 14727
 \, United States
X-APPLE-STRUCTURED-LOCATION;VALUE=URI;X-ADDRESS=39 East Main Street\, Cuba\
 , NY\, 14727\, United States;X-APPLE-RADIUS=100;X-TITLE=Cuba Circulating L
 ibrary:geo:0,0
END:VEVENT
BEGIN:VTIMEZONE
TZID:America/New_York
X-LIC-LOCATION:America/New_York
BEGIN:DAYLIGHT
DTSTART:20250309T030000
TZOFFSETFROM:-0500
TZOFFSETTO:-0400
TZNAME:EDT
END:DAYLIGHT
END:VTIMEZONE
END:VCALENDAR