BEGIN:VCALENDAR
VERSION:2.0
PRODID:-//wp-events-plugin.com//7.2.3.1//EN
TZID:America/New_York
X-WR-TIMEZONE:America/New_York
BEGIN:VEVENT
UID:2768@cubalibrary.org
DTSTART;TZID=America/New_York:20250721T100000
DTEND;TZID=America/New_York:20250721T120000
DTSTAMP:20250618T204354Z
URL:https://cubalibrary.org/events/craft-create-2025/
SUMMARY:Craft & Create 2025
DESCRIPTION:Join us at the Cuba Art Station on Monday\, July 21 from 10 am 
 - 12 pm to Craft &amp\; Create. Discover the art of paper weaving. Use wat
 ercolor\, stamps\, and colored pencils to create two beautiful images then
  combine them into one vibrant work of art. Instructors: Susan Doran\, Mar
 lowe Sider\, and Cadence Croucher. This program is open to patrons ages 10
  - adult. Space is limited and registration is required. Please contact Cu
 ba Library at (585) 968-1668 or email cuba@stls.org.\n\nThis project is ma
 de possible with funds from the Statewide Community Regrants Program\, a r
 egrant program of the New York State Council on the Arts with the support 
 of the Office of the Governor and the New York State Legislature and admin
 istered by the Arts Council for Wyoming County
ATTACH;FMTTYPE=image/jpeg:https://cubalibrary.org/wp-content/uploads/2025/
 06/Paper-Weaving-Instagram-Square.png
CATEGORIES:Craft Classes
LOCATION:Cuba Circulating Library\, 39 East Main Street\, Cuba\, NY\, 14727
 \, United States
X-APPLE-STRUCTURED-LOCATION;VALUE=URI;X-ADDRESS=39 East Main Street\, Cuba\
 , NY\, 14727\, United States;X-APPLE-RADIUS=100;X-TITLE=Cuba Circulating L
 ibrary:geo:0,0
END:VEVENT
BEGIN:VTIMEZONE
TZID:America/New_York
X-LIC-LOCATION:America/New_York
BEGIN:DAYLIGHT
DTSTART:20250309T030000
TZOFFSETFROM:-0500
TZOFFSETTO:-0400
TZNAME:EDT
END:DAYLIGHT
END:VTIMEZONE
END:VCALENDAR