BEGIN:VCALENDAR
VERSION:2.0
PRODID:-//wp-events-plugin.com//7.2.3.1//EN
TZID:America/New_York
X-WR-TIMEZONE:America/New_York
BEGIN:VEVENT
UID:2719@cubalibrary.org
DTSTART;TZID=America/New_York:20250422T183000
DTEND;TZID=America/New_York:20250422T193000
DTSTAMP:20250422T141012Z
URL:https://cubalibrary.org/events/cuba-historical-society/
SUMMARY:Cuba Historical Society
DESCRIPTION:Outside Group\n\nJoin Us for the Cuba Historical Society’s An
 nual Meeting!\nCome meet the new board\, participate in the election of of
 ficers\, and hear about the exciting plans ahead for the Historical Societ
 y. Share your ideas for the future\, explore artifacts and photographs fro
 m the museum\, and enjoy refreshments.\n Date: Tuesday\, April 22\n Locati
 on: Cuba Circulating Library\, 39 E. Main St.\n Time: 6:30 p.m.\nAll Histo
 rical Society members are invited—we look forward to seeing you there. Y
 ou may pay your dues to join the Historical Society at the meeting
ATTACH;FMTTYPE=image/jpeg:https://cubalibrary.org/wp-content/uploads/2025/
 04/historical-society.jpg
CATEGORIES:Outside Groups
LOCATION:Cuba Circulating Library\, 39 East Main Street\, Cuba\, NY\, 14727
 \, United States
X-APPLE-STRUCTURED-LOCATION;VALUE=URI;X-ADDRESS=39 East Main Street\, Cuba\
 , NY\, 14727\, United States;X-APPLE-RADIUS=100;X-TITLE=Cuba Circulating L
 ibrary:geo:0,0
END:VEVENT
BEGIN:VTIMEZONE
TZID:America/New_York
X-LIC-LOCATION:America/New_York
BEGIN:DAYLIGHT
DTSTART:20250309T030000
TZOFFSETFROM:-0500
TZOFFSETTO:-0400
TZNAME:EDT
END:DAYLIGHT
END:VTIMEZONE
END:VCALENDAR