BEGIN:VCALENDAR
VERSION:2.0
PRODID:-//wp-events-plugin.com//7.2.3.1//EN
TZID:America/New_York
X-WR-TIMEZONE:America/New_York
BEGIN:VEVENT
UID:3265@cubalibrary.org
DTSTART;TZID=America/New_York:20251204T170000
DTEND;TZID=America/New_York:20251204T180000
DTSTAMP:20251113T195846Z
URL:https://cubalibrary.org/events/disaster-preparedness/
SUMMARY:Disaster Preparedness Training
DESCRIPTION:With severe weather events becoming more frequent and more extr
 eme\, it is more important than ever that New Yorkers are prepared for dis
 asters. Join us at the Cuba Library on Thursday\, December 4 at 5 pm at th
 e Cuba Library for a free class with The NY Citizen Preparedness Training 
 Program\, which teaches residents to have the tools and resources to prepa
 re for any type of disaster\, respond accordingly and recover as quickly a
 s possible to normal conditions. This training course will provide an intr
 oduction to responding to a natural or man-made disaster. Participants wil
 l be advised on how to properly prepare for any disaster\, including devel
 oping a family emergency plan and stocking up on emergency supplies. Each 
 family that attends will receive one preparedness kit. Registration is req
 uired. Please visit www.prepare.ny.gov to sign up.
ATTACH;FMTTYPE=image/jpeg:https://cubalibrary.org/wp-content/uploads/2025/
 11/Citizen-Preparedness-Corps-Training-Program-Instagram-Post.png
CATEGORIES:Adult Programs
LOCATION:Cuba Circulating Library\, 39 East Main Street\, Cuba\, NY\, 14727
 \, United States
X-APPLE-STRUCTURED-LOCATION;VALUE=URI;X-ADDRESS=39 East Main Street\, Cuba\
 , NY\, 14727\, United States;X-APPLE-RADIUS=100;X-TITLE=Cuba Circulating L
 ibrary:geo:0,0
END:VEVENT
BEGIN:VTIMEZONE
TZID:America/New_York
X-LIC-LOCATION:America/New_York
BEGIN:STANDARD
DTSTART:20251102T010000
TZOFFSETFROM:-0400
TZOFFSETTO:-0500
TZNAME:EST
END:STANDARD
END:VTIMEZONE
END:VCALENDAR