BEGIN:VCALENDAR
VERSION:2.0
PRODID:-//wp-events-plugin.com//7.2.3.1//EN
TZID:America/New_York
X-WR-TIMEZONE:America/New_York
BEGIN:VEVENT
UID:2318@cubalibrary.org
DTSTART;TZID=America/New_York:20240924T140000
DTEND;TZID=America/New_York:20240924T200000
DTSTAMP:20240917T152320Z
URL:https://cubalibrary.org/events/early-closing-staff-development-day/
SUMMARY:Early Closing - Staff Development Day
DESCRIPTION:The library will close early at 2 pm on Tuesday\, September 24 
 for our annual staff development day.
ATTACH;FMTTYPE=image/jpeg:https://cubalibrary.org/wp-content/uploads/2024/
 09/Cuba-Library-closing-at-2pm-1920-x-1080-px-Instagram-Post-2024.png
CATEGORIES:Early Closing
LOCATION:Cuba Circulating Library\, 39 East Main Street\, Cuba\, NY\, 14727
 \, United States
X-APPLE-STRUCTURED-LOCATION;VALUE=URI;X-ADDRESS=39 East Main Street\, Cuba\
 , NY\, 14727\, United States;X-APPLE-RADIUS=100;X-TITLE=Cuba Circulating L
 ibrary:geo:0,0
END:VEVENT
BEGIN:VTIMEZONE
TZID:America/New_York
X-LIC-LOCATION:America/New_York
BEGIN:DAYLIGHT
DTSTART:20240310T030000
TZOFFSETFROM:-0500
TZOFFSETTO:-0400
TZNAME:EDT
END:DAYLIGHT
END:VTIMEZONE
END:VCALENDAR