BEGIN:VCALENDAR
VERSION:2.0
PRODID:-//wp-events-plugin.com//7.2.3.1//EN
TZID:America/New_York
X-WR-TIMEZONE:America/New_York
BEGIN:VEVENT
UID:3406@cubalibrary.org
DTSTART;TZID=America/New_York:20260122T180000
DTEND;TZID=America/New_York:20260122T190000
DTSTAMP:20260106T171328Z
URL:https://cubalibrary.org/events/energy-literacy-program/
SUMMARY:Energy Literacy Program
DESCRIPTION:Join us at the Cuba Library Thursday\, January 22 at 6:00 pm fo
 r a program presented by the Cornell Cooperative Extension with informatio
 n to help understand your energy bill\, give you real savings suggestions\
 , and weatherization tips. Receive a free energy kit that includes an Adva
 nced Power Strip with Surge Protection\, 2 LED light bulbs\, Window Shrink
  & Seal Insulation Kit\, Silicone/Rubber Weather-stripping\, Foam Tape for
  Windows and doors and a door sweep\, 5 Foam Outlet Gaskets and 5 Foam Swi
 tch Gaskets. This program is free and open to the public. Pre-registration
  is not required\, but anyone wishing to receive a kit will be required to
  fill out a sign in sheet.\n\nPlease contact Cornell Cooperative extension
  at 716 966 2377 ext. 109\, or visit https://cattaraugus.cce.cornell.edu/ 
 for further information.
ATTACH;FMTTYPE=image/jpeg:https://cubalibrary.org/wp-content/uploads/2025/
 12/Energy-Workshop-Instagram-Post.png
CATEGORIES:Lecturer/Presenter
LOCATION:Cuba Circulating Library\, 39 East Main Street\, Cuba\, NY\, 14727
 \, United States
X-APPLE-STRUCTURED-LOCATION;VALUE=URI;X-ADDRESS=39 East Main Street\, Cuba\
 , NY\, 14727\, United States;X-APPLE-RADIUS=100;X-TITLE=Cuba Circulating L
 ibrary:geo:0,0
END:VEVENT
BEGIN:VTIMEZONE
TZID:America/New_York
X-LIC-LOCATION:America/New_York
BEGIN:STANDARD
DTSTART:20251102T010000
TZOFFSETFROM:-0400
TZOFFSETTO:-0500
TZNAME:EST
END:STANDARD
END:VTIMEZONE
END:VCALENDAR