BEGIN:VCALENDAR
VERSION:2.0
PRODID:-//wp-events-plugin.com//7.2.3.1//EN
TZID:America/New_York
X-WR-TIMEZONE:America/New_York
BEGIN:VEVENT
UID:3605@cubalibrary.org
DTSTART;TZID=America/New_York:20260218T183000
DTEND;TZID=America/New_York:20260218T193000
DTSTAMP:20260128T191453Z
URL:https://cubalibrary.org/events/epic-eats-2-2026-02-18/
SUMMARY:All Things Chocolate
DESCRIPTION:Seeing that February contains the Valentine's Day holiday\, ch
 ocolate seems to be on people's minds. Tweens and teens ages 10 - 18 are 
 invited to join Miss Liz on Wednesday\, February 18 at 6:30 pm at the Cub
 a Library as we take various food items and cover them in different kin
 ds of chocolate. It will be a delicious way to spend the evening. Space i
 s limited and registration is required. Please contact us at cuba@stls.org
 \, message us on Facebook\, or call (585) 968-1668 to see if space is avai
 lable.
ATTACH;FMTTYPE=image/jpeg:https://cubalibrary.org/wp-content/uploads/2025/
 12/All-Things-Chocolate-Instagram-Post.png
CATEGORIES:Teen Programs
LOCATION:Cuba Circulating Library\, 39 East Main Street\, Cuba\, NY\, 14727
 \, United States
X-APPLE-STRUCTURED-LOCATION;VALUE=URI;X-ADDRESS=39 East Main Street\, Cuba\
 , NY\, 14727\, United States;X-APPLE-RADIUS=100;X-TITLE=Cuba Circulating L
 ibrary:geo:0,0
END:VEVENT
BEGIN:VTIMEZONE
TZID:America/New_York
X-LIC-LOCATION:America/New_York
BEGIN:STANDARD
DTSTART:20251102T010000
TZOFFSETFROM:-0400
TZOFFSETTO:-0500
TZNAME:EST
END:STANDARD
END:VTIMEZONE
END:VCALENDAR