BEGIN:VCALENDAR
VERSION:2.0
PRODID:-//wp-events-plugin.com//7.2.3.1//EN
TZID:America/New_York
X-WR-TIMEZONE:America/New_York
BEGIN:VEVENT
UID:2747@cubalibrary.org
DTSTART;TZID=America/New_York:20250613T170000
DTEND;TZID=America/New_York:20250613T190000
DTSTAMP:20250527T184813Z
URL:https://cubalibrary.org/events/foam-party/
SUMMARY:Foam Party!!!
DESCRIPTION:Imagine this scene: Everyone is gathered\, watching a powerful 
 foam cannon shoot piles of safe\, fluffy foam into the area. Before you kn
 ow it\, the kids are laughing and playing\, having mounds of fun!\n\nJoin 
 us on West Main St on Friday\, June 13 from 5 - 7 pm during the Dairy Days
  celebration for a Foam Party just for the kids! Sponsored by Cuba Library
  and Friends of the Cuba Library\, Inc.\, this fun event gives the kids so
 mething fun to enjoy during Dairy Days too.\n\nFreddy Frog’s Foam cannon
  is powerful – within minutes\, you will have up to SIX FEET of foam to 
 romp and play in an area about the size of half a tennis court. Best of al
 l\, it’s completely people and pet-safe! This event is free and open to 
 everyone.
ATTACH;FMTTYPE=image/jpeg:https://cubalibrary.org/wp-content/uploads/2025/
 05/Foam-Party-Instagram-Post.png
CATEGORIES:Children's Programs
LOCATION:West Main St.\, West Main St.\, Cuba\, New York\, 14727\, United S
 tates
X-APPLE-STRUCTURED-LOCATION;VALUE=URI;X-ADDRESS=West Main St.\, Cuba\, New 
 York\, 14727\, United States;X-APPLE-RADIUS=100;X-TITLE=West Main St.:geo:
 0,0
END:VEVENT
BEGIN:VTIMEZONE
TZID:America/New_York
X-LIC-LOCATION:America/New_York
BEGIN:DAYLIGHT
DTSTART:20250309T030000
TZOFFSETFROM:-0500
TZOFFSETTO:-0400
TZNAME:EDT
END:DAYLIGHT
END:VTIMEZONE
END:VCALENDAR