BEGIN:VCALENDAR
VERSION:2.0
PRODID:-//wp-events-plugin.com//7.2.3.1//EN
TZID:America/New_York
X-WR-TIMEZONE:America/New_York
BEGIN:VEVENT
UID:3272@cubalibrary.org
DTSTART;TZID=America/New_York:20251213T100000
DTEND;TZID=America/New_York:20251220T140000
DTSTAMP:20260407T151558Z
URL:https://cubalibrary.org/event-recurring/friends-gift-wrapping/
SUMMARY:Friends Gift Wrapping
DESCRIPTION:Let Us Wrap Your Presents!\nDrop them off. . . Pick them up wra
 pped\, or we can wrap while you wait!\nMultiple Days: Dec 6th ~ 10am-2pm\,
  Dec 13th ~ 10am-2pm\, Dec 18th ~ 3pm-7pm.\nSUGGESTED DONATION: Small - $1
 \, Med - $2\, LG - $3\, Difficult - $5.\nFriends of the Cuba Library--- tu
 rning pages and wrapping presents for a good cause!
ATTACH;FMTTYPE=image/jpeg:https://cubalibrary.org/wp-content/uploads/2025/
 11/Let-Us-Wrap-Your-Presents-25-IG.png
CATEGORIES:Friends of the Library
LOCATION:Cuba Circulating Library\, 39 East Main Street\, Cuba\, NY\, 14727
 \, United States
X-APPLE-STRUCTURED-LOCATION;VALUE=URI;X-ADDRESS=39 East Main Street\, Cuba\
 , NY\, 14727\, United States;X-APPLE-RADIUS=100;X-TITLE=Cuba Circulating L
 ibrary:geo:0,0
END:VEVENT
BEGIN:VTIMEZONE
TZID:America/New_York
X-LIC-LOCATION:America/New_York
BEGIN:STANDARD
DTSTART:20251102T010000
TZOFFSETFROM:-0400
TZOFFSETTO:-0500
TZNAME:EST
END:STANDARD
END:VTIMEZONE
END:VCALENDAR