BEGIN:VCALENDAR
VERSION:2.0
PRODID:-//wp-events-plugin.com//7.2.3.1//EN
TZID:America/New_York
X-WR-TIMEZONE:America/New_York
BEGIN:VEVENT
UID:3649@cubalibrary.org
DTSTART;TZID=America/New_York:20260212T110000
DTEND;TZID=America/New_York:20260212T180000
DTSTAMP:20260107T170612Z
URL:https://cubalibrary.org/events/friends-love-your-library-book-sale-2-2
 026-02-07-2026-02-08-2026-02-09-2026-02-10-2026-02-11-2026-02-12/
SUMMARY:Friends' Love Your Library Book Sale
DESCRIPTION:Join us for our February 'Love Your Library' PUZZLE & BOOK SALE
 \nFeb. Saturday 7th ~ 10am-2pm\nMonday 9th ~ 10am-5pm\nTuesday 10th ~ 10am
 -5pm\nWednesday 11th ~ 11am-6pm\nThursday 12th ~ 11am-6pm\nSaturday 14th ~
  10am-2pm\n◇ with a $5 bag sale the 14th only\n◇ plus ALL puzzles are 
 'buy one get one 50%off!'\nLOVE YOUR LIBRARY and join us for our sale \n\n
 Friends of the Cuba Library\, Inc. is a non profit 501(c)(3) organization
 . Pursuant to NYS law\, all donations are tax deductible. A financial sta
 tement is available on request.
ATTACH;FMTTYPE=image/jpeg:https://cubalibrary.org/wp-content/uploads/2026/
 01/Love-Your-Library-Instagram-Post.png
CATEGORIES:Friends of the Library
LOCATION:Cuba Circulating Library\, 39 East Main Street\, Cuba\, NY\, 14727
 \, United States
X-APPLE-STRUCTURED-LOCATION;VALUE=URI;X-ADDRESS=39 East Main Street\, Cuba\
 , NY\, 14727\, United States;X-APPLE-RADIUS=100;X-TITLE=Cuba Circulating L
 ibrary:geo:0,0
END:VEVENT
BEGIN:VTIMEZONE
TZID:America/New_York
X-LIC-LOCATION:America/New_York
BEGIN:STANDARD
DTSTART:20251102T010000
TZOFFSETFROM:-0400
TZOFFSETTO:-0500
TZNAME:EST
END:STANDARD
END:VTIMEZONE
END:VCALENDAR