BEGIN:VCALENDAR
VERSION:2.0
PRODID:-//wp-events-plugin.com//7.2.3.1//EN
TZID:America/New_York
X-WR-TIMEZONE:America/New_York
BEGIN:VEVENT
UID:2745@cubalibrary.org
DTSTART;TZID=America/New_York:20250614T100000
DTEND;TZID=America/New_York:20250614T140000
DTSTAMP:20250512T180330Z
URL:https://cubalibrary.org/events/friends-of-the-cuba-library-inc-june-bo
 ok-sale-2025-06-14/
SUMMARY:Friends of the Cuba Library\, Inc June Book Sale
DESCRIPTION:Monday\, June 9th 10 am - 5pm\, members only 10 - 11 am\nTuesda
 y\, June 10th 10 am - 5 pm\nWednesday\, June 11th 11 am - 6 pm\nThursday\,
  June 12th 10 am - 5 pm\nFriday\, June 13th 10 am - 6 pm\nSaturday\, June 
 14th 10am - 2 pm\n\nSwing by the book room and get ready to milk your curi
 osity. Dive into Cuba's Moo-velous Dairy days with us!\n\nFriends of the C
 uba Library\, Inc. is a 501(c)3 organization. Donations are tax deductible
  to the fullest extent of the law. Financial statements available by reque
 st.
ATTACH;FMTTYPE=image/jpeg:https://cubalibrary.org/wp-content/uploads/2025/
 05/June-Book-Sale-2025-Instagram-Post.png
CATEGORIES:Friends of the Library
LOCATION:Cuba Circulating Library\, 39 East Main Street\, Cuba\, NY\, 14727
 \, United States
X-APPLE-STRUCTURED-LOCATION;VALUE=URI;X-ADDRESS=39 East Main Street\, Cuba\
 , NY\, 14727\, United States;X-APPLE-RADIUS=100;X-TITLE=Cuba Circulating L
 ibrary:geo:0,0
END:VEVENT
BEGIN:VTIMEZONE
TZID:America/New_York
X-LIC-LOCATION:America/New_York
BEGIN:DAYLIGHT
DTSTART:20250309T030000
TZOFFSETFROM:-0500
TZOFFSETTO:-0400
TZNAME:EDT
END:DAYLIGHT
END:VTIMEZONE
END:VCALENDAR