BEGIN:VCALENDAR
VERSION:2.0
PRODID:-//wp-events-plugin.com//7.2.3.1//EN
TZID:America/New_York
X-WR-TIMEZONE:America/New_York
BEGIN:VEVENT
UID:2746@cubalibrary.org
DTSTART;TZID=America/New_York:20250612T180000
DTEND;TZID=America/New_York:20250612T200000
DTSTAMP:20250519T181435Z
URL:https://cubalibrary.org/events/game-night-tap-n-pour-3/
SUMMARY:Game Night @ Tap-N-Pour
DESCRIPTION:Do you enjoy playing modern board games and card games but you
 ’re always looking for people to play? Join us for game night at Tap &am
 p\; Pour! We will bring a selection of games from our game collection\, an
 d you’re welcome to bring games you think people may enjoy. Come prepare
 d to have fun\, socialize\, and play some games. The library will provide 
 appetizers for snacking. This program is free and open to adults. Registra
 tion is requested so that we will have some idea of how many appetizers we
  should order and how much space is needed for the group. Please contact C
 uba Library at (585)968-1668 or email cuba@stls.org to sign up.
ATTACH;FMTTYPE=image/jpeg:https://cubalibrary.org/wp-content/uploads/2025/
 04/Game-Night-Tap-Pour-3-Instagram-Post.png
CATEGORIES:Adult Programs
LOCATION:Tap-N-Pour\, 18 W Main St\, Cuba\, New York\, 14727\, United State
 s
X-APPLE-STRUCTURED-LOCATION;VALUE=URI;X-ADDRESS=18 W Main St\, Cuba\, New Y
 ork\, 14727\, United States;X-APPLE-RADIUS=100;X-TITLE=Tap-N-Pour:geo:0,0
END:VEVENT
BEGIN:VTIMEZONE
TZID:America/New_York
X-LIC-LOCATION:America/New_York
BEGIN:DAYLIGHT
DTSTART:20250309T030000
TZOFFSETFROM:-0500
TZOFFSETTO:-0400
TZNAME:EDT
END:DAYLIGHT
END:VTIMEZONE
END:VCALENDAR