BEGIN:VCALENDAR
VERSION:2.0
PRODID:-//wp-events-plugin.com//7.2.3.1//EN
TZID:America/New_York
X-WR-TIMEZONE:America/New_York
BEGIN:VEVENT
UID:2733@cubalibrary.org
DTSTART;TZID=America/New_York:20250603T183000
DTEND;TZID=America/New_York:20250603T193000
DTSTAMP:20250514T195054Z
URL:https://cubalibrary.org/events/gardening-program-2/
SUMMARY:Gardening Program: Protecting Pollinators
DESCRIPTION:Gardening and landscaping offer numerous benefits\, but the spe
 cifics of how to get started may not be as well-known. Ready to get your h
 ands dirty and help your garden (and the planet) thrive? We’re hosting t
 wo exciting\, in-person workshops that will teach you practical skills to 
 grow herbs at home and protect local pollinators. Free to attend\, and you
 ’ll go home with something you made yourself!\n \nWorkshop #2: Protectin
 g Pollinators\nDate: Tuesday\, June 3\, 2025.\nTime: 6:30 pm - 7:30 pm\nDi
 scover how you can support pollinators in your own backyard! Our Master Ga
 rdeners will share tips on mowing\, wildflowers\, and native plants. Then\
 , you’ll build a bee hotel using recycled materials to bring home.\n\nTh
 ese classes will be presented by Cornell Cooperative Extension of Allegany
  County Master Gardeners\, who are well-versed in the gardening and landsc
 ape issues that we deal with here in our county.\n\nCall the Cuba Library 
 (585)968-1668 with any questions.
ATTACH;FMTTYPE=image/jpeg:https://cubalibrary.org/wp-content/uploads/2025/
 05/Gardening-Classes-2-Instagram-Post-3.png
CATEGORIES:Lecturer/Presenter
LOCATION:Cuba Circulating Library\, 39 East Main Street\, Cuba\, NY\, 14727
 \, United States
X-APPLE-STRUCTURED-LOCATION;VALUE=URI;X-ADDRESS=39 East Main Street\, Cuba\
 , NY\, 14727\, United States;X-APPLE-RADIUS=100;X-TITLE=Cuba Circulating L
 ibrary:geo:0,0
END:VEVENT
BEGIN:VTIMEZONE
TZID:America/New_York
X-LIC-LOCATION:America/New_York
BEGIN:DAYLIGHT
DTSTART:20250309T030000
TZOFFSETFROM:-0500
TZOFFSETTO:-0400
TZNAME:EDT
END:DAYLIGHT
END:VTIMEZONE
END:VCALENDAR