BEGIN:VCALENDAR
VERSION:2.0
PRODID:-//wp-events-plugin.com//7.2.3.1//EN
TZID:America/New_York
X-WR-TIMEZONE:America/New_York
BEGIN:VEVENT
UID:2796@cubalibrary.org
DTSTART;TZID=America/New_York:20250920T000000
DTEND;TZID=America/New_York:20250921T000000
DTSTAMP:20250812T152707Z
URL:https://cubalibrary.org/events/garlic-festival/
SUMMARY:Garlic Festival
DESCRIPTION:
END:VEVENT
BEGIN:VTIMEZONE
TZID:America/New_York
X-LIC-LOCATION:America/New_York
BEGIN:DAYLIGHT
DTSTART:20250309T030000
TZOFFSETFROM:-0500
TZOFFSETTO:-0400
TZNAME:EDT
END:DAYLIGHT
END:VTIMEZONE
END:VCALENDAR