BEGIN:VCALENDAR
VERSION:2.0
PRODID:-//wp-events-plugin.com//7.2.3.1//EN
TZID:America/New_York
X-WR-TIMEZONE:America/New_York
BEGIN:VEVENT
UID:2748@cubalibrary.org
DTSTART;TZID=America/New_York:20250611T180000
DTEND;TZID=America/New_York:20250611T190000
DTSTAMP:20250602T194720Z
URL:https://cubalibrary.org/events/grad-cap-decorating/
SUMMARY:Grad Cap Decorating
DESCRIPTION:High School Seniors are invited to come hang out at the Cuba Li
 brary on Wednesday\, June 11 from 6 - 7 pm to decorate their graduation ca
 ps. We will provide ribbon\, glue\, glitter\, puff paints\, paint markers\
 , acrylic paints & scrapbook paper for decorating. We will also provide pi
 zza to snack on. Registration is requested so that we have some idea of ho
 w much pizza to order\, but is not required. Please call (585)968-1668\, e
 mail cuba@stls.org or message us on Facebook. Students from other nearby s
 chools are welcome to sign up.
ATTACH;FMTTYPE=image/jpeg:https://cubalibrary.org/wp-content/uploads/2025/
 06/Grad-Cap-Decorating.png
CATEGORIES:Teen Programs
LOCATION:Cuba Circulating Library\, 39 East Main Street\, Cuba\, NY\, 14727
 \, United States
X-APPLE-STRUCTURED-LOCATION;VALUE=URI;X-ADDRESS=39 East Main Street\, Cuba\
 , NY\, 14727\, United States;X-APPLE-RADIUS=100;X-TITLE=Cuba Circulating L
 ibrary:geo:0,0
END:VEVENT
BEGIN:VTIMEZONE
TZID:America/New_York
X-LIC-LOCATION:America/New_York
BEGIN:DAYLIGHT
DTSTART:20250309T030000
TZOFFSETFROM:-0500
TZOFFSETTO:-0400
TZNAME:EDT
END:DAYLIGHT
END:VTIMEZONE
END:VCALENDAR