BEGIN:VCALENDAR
VERSION:2.0
PRODID:-//wp-events-plugin.com//7.2.3.1//EN
TZID:America/New_York
X-WR-TIMEZONE:America/New_York
BEGIN:VEVENT
UID:3254@cubalibrary.org
DTSTART;TZID=America/New_York:20251016T183000
DTEND;TZID=America/New_York:20251016T193000
DTSTAMP:20251001T163408Z
URL:https://cubalibrary.org/events/how-to-plan-your-funeral/
SUMMARY:How to Plan Your Funeral
DESCRIPTION:Talking about death can be difficult\, but planning ahead is an
  important act of care for yourself and your loved ones. Taking the time t
 o thoughtfully plan your funeral not only ensures your wishes are respecte
 d\, but also helps ease the burden on family members during an emotional t
 ime. \n\nJoin us at the Cuba Library on Thursday\, October 16 at 6:30 p.m
 . and learn How to Plan Your Funeral. This program\, led by Funeral Direct
 or Mark Rinker\, will provide participants with a basic guide to planning 
 their own funerals\, empowering them to make informed decisions and ensure
  their wishes are honored. Attendees will learn about the key steps involv
 ed in funeral planning\, including choosing between burial and cremation\,
  selecting service options\, managing legal and financial considerations\,
  and communicating plans with loved ones. Through this program\, participa
 nts will gain the knowledge and resources needed to create a personalized 
 funeral plan that reflects their values and provides peace of mind for the
 mselves and their families.\nThis program is free and open to all\, but re
 gistration is preferred. Please contact Cuba Library at (585)968-1668 or e
 mail cuba@stls.org to sign up.\n
ATTACH;FMTTYPE=image/jpeg:https://cubalibrary.org/wp-content/uploads/2025/
 10/How-to-Plan-Your-Funeral-Instagram-Post.png
CATEGORIES:Adult Programs
LOCATION:Cuba Circulating Library\, 39 East Main Street\, Cuba\, NY\, 14727
 \, United States
X-APPLE-STRUCTURED-LOCATION;VALUE=URI;X-ADDRESS=39 East Main Street\, Cuba\
 , NY\, 14727\, United States;X-APPLE-RADIUS=100;X-TITLE=Cuba Circulating L
 ibrary:geo:0,0
END:VEVENT
BEGIN:VTIMEZONE
TZID:America/New_York
X-LIC-LOCATION:America/New_York
BEGIN:DAYLIGHT
DTSTART:20250309T030000
TZOFFSETFROM:-0500
TZOFFSETTO:-0400
TZNAME:EDT
END:DAYLIGHT
END:VTIMEZONE
END:VCALENDAR