BEGIN:VCALENDAR
VERSION:2.0
PRODID:-//wp-events-plugin.com//7.2.3.1//EN
TZID:America/New_York
X-WR-TIMEZONE:America/New_York
BEGIN:VEVENT
UID:2750@cubalibrary.org
DTSTART;TZID=America/New_York:20250701T183000
DTEND;TZID=America/New_York:20250701T193000
DTSTAMP:20250610T145120Z
URL:https://cubalibrary.org/events/indoor-mushroom-cultivation/
SUMMARY:Indoor Mushroom Cultivation
DESCRIPTION:Do you have an interest in mushrooms & mushroom foraging? Would
  you like to expand your knowledge and learn to grow your own mushrooms? L
 earn the concepts and general techniques behind mushroom cultivation using
  methods that are easily replicable at home and affordable. Sign up to joi
 n the class on Tuesday\, July 1 at 6:30 p.m. at the Cuba Library. Licensed
  mushroom forager Samuel Warren will start with a slideshow presentation c
 overing the concept\, then discuss culturing techniques in a still air box
 \, and inoculate a bag of substrate. Every person leaves with a bag of spa
 wn. This class is free and open to all ages\, but children must be accompa
 nied by an adult.\n\nSamuel Warren is a licensed mushroom forager in 13 st
 ates\, a NYS licensed guide and head mycologist at Food Forest Fungi.\n\nT
 here is limited space so registration is required. Contact the library to 
 register at cuba@stls.org or call (585)968-1668.
ATTACH;FMTTYPE=image/jpeg:https://cubalibrary.org/wp-content/uploads/2025/
 06/Indoor-Mushroom-Cultivation-Instagram-Post-Square.png
CATEGORIES:Lecturer/Presenter
LOCATION:Cuba Circulating Library\, 39 East Main Street\, Cuba\, NY\, 14727
 \, United States
X-APPLE-STRUCTURED-LOCATION;VALUE=URI;X-ADDRESS=39 East Main Street\, Cuba\
 , NY\, 14727\, United States;X-APPLE-RADIUS=100;X-TITLE=Cuba Circulating L
 ibrary:geo:0,0
END:VEVENT
BEGIN:VTIMEZONE
TZID:America/New_York
X-LIC-LOCATION:America/New_York
BEGIN:DAYLIGHT
DTSTART:20250309T030000
TZOFFSETFROM:-0500
TZOFFSETTO:-0400
TZNAME:EDT
END:DAYLIGHT
END:VTIMEZONE
END:VCALENDAR