BEGIN:VCALENDAR
VERSION:2.0
PRODID:-//wp-events-plugin.com//7.2.3.1//EN
TZID:America/New_York
X-WR-TIMEZONE:America/New_York
BEGIN:VEVENT
UID:3352@cubalibrary.org
DTSTART;TZID=America/New_York:20260114T183000
DTEND;TZID=America/New_York:20260114T193000
DTSTAMP:20251231T170259Z
URL:https://cubalibrary.org/events/is-it-possible-to-stay-happy-and-sane-i
 n-todays-crazy-world/
SUMMARY:Is It Possible to Stay Happy and Sane in Today's Crazy World?
DESCRIPTION:During challenging\, depressing\, and stressful times\, the pur
 suit of happiness can seem impossible or inappropriate. Join us at the Cub
 a Library on Wednesday\, January 14 at 6:30 p.m. for a program with Chuck 
 Walker. He says\, "Having studied the subject of psychological well-being 
 for a couple of decades\, I can say with a bit of confidence that there ar
 e many things you can do to elevate your mood and help you\, your family\,
  and friends to cope more effectively with loneliness\, boredom\, fear\, a
 nd anxiety. I will suggest some feasible specific things you can begin doi
 ng immediately if you are at all serious and deliberate about pursuing the
  happiness of yourself and others." This program is free and open to the p
 ublic.\n\nChuck Walker received a BS from the Univ. of Pittsburgh and a Ph
 D from Adelphi University. He was a Professor of Psychology for 44 years a
 t St. Bonaventure University\, where he served as both chair of the Psycho
 logy dept. and Assistant Dean of Arts and Sciences. Because of his researc
 h on happiness\, he was invited as a speaker at the Global Summit on Human
  Well-Being in Washington DC and asked by the Prime Minister of Bhutan to 
 be a panelist on Human Happiness and Well-Being at the United Nations.
ATTACH;FMTTYPE=image/jpeg:https://cubalibrary.org/wp-content/uploads/2025/
 12/Is-it-possible-to-stay-happy-and-sane-in-todays-crazy-world-sq-1.png
CATEGORIES:Lecturer/Presenter
LOCATION:Cuba Circulating Library\, 39 East Main Street\, Cuba\, NY\, 14727
 \, United States
X-APPLE-STRUCTURED-LOCATION;VALUE=URI;X-ADDRESS=39 East Main Street\, Cuba\
 , NY\, 14727\, United States;X-APPLE-RADIUS=100;X-TITLE=Cuba Circulating L
 ibrary:geo:0,0
END:VEVENT
BEGIN:VTIMEZONE
TZID:America/New_York
X-LIC-LOCATION:America/New_York
BEGIN:STANDARD
DTSTART:20251102T010000
TZOFFSETFROM:-0400
TZOFFSETTO:-0500
TZNAME:EST
END:STANDARD
END:VTIMEZONE
END:VCALENDAR