BEGIN:VCALENDAR
VERSION:2.0
PRODID:-//wp-events-plugin.com//7.2.3.1//EN
TZID:America/New_York
X-WR-TIMEZONE:America/New_York
BEGIN:VEVENT
UID:3246@cubalibrary.org
DTSTART;TZID=America/New_York:20251021T183000
DTEND;TZID=America/New_York:20251021T193000
DTSTAMP:20260407T151521Z
URL:https://cubalibrary.org/events/jane-austen-book-club-2025-10-21/
SUMMARY:Jane Austen Book Club
DESCRIPTION:Dear Reader\, join us as we honor the beloved author Jane Auste
 n by reading all of her novels—in order! Experience her wit\, romance\, 
 and keen observations of society from Sense and Sensibility to Persuasion.
  The club will meet Tuesdays\, Oct. 21\, Nov. 18\, Dec. 16\, Jan. 20\, Feb
 . 17\, Mar. 17 (the 3rd Tuesday of each month) at 6:30 p.m. upstairs by th
 e fireplace at the Cuba Library. This program is free and open to patrons 
 ages 12 & up\, but registration is required. Please call the library at (
 585) 968-1668\, message us on Facebook\, or email cuba@stls.org to sign up
 . 
ATTACH;FMTTYPE=image/jpeg:https://cubalibrary.org/wp-content/uploads/2025/
 09/Jane-Austen-Book-Club-Instagram-Post.png
CATEGORIES:Book Discussion
LOCATION:Cuba Circulating Library\, 39 East Main Street\, Cuba\, NY\, 14727
 \, United States
X-APPLE-STRUCTURED-LOCATION;VALUE=URI;X-ADDRESS=39 East Main Street\, Cuba\
 , NY\, 14727\, United States;X-APPLE-RADIUS=100;X-TITLE=Cuba Circulating L
 ibrary:geo:0,0
END:VEVENT
BEGIN:VTIMEZONE
TZID:America/New_York
X-LIC-LOCATION:America/New_York
BEGIN:DAYLIGHT
DTSTART:20250309T030000
TZOFFSETFROM:-0500
TZOFFSETTO:-0400
TZNAME:EDT
END:DAYLIGHT
END:VTIMEZONE
END:VCALENDAR