BEGIN:VCALENDAR
VERSION:2.0
PRODID:-//wp-events-plugin.com//7.2.3.1//EN
TZID:America/New_York
X-WR-TIMEZONE:America/New_York
BEGIN:VEVENT
UID:3820@cubalibrary.org
DTSTART;TZID=America/New_York:20260406T153000
DTEND;TZID=America/New_York:20260406T163000
DTSTAMP:20260323T155219Z
URL:https://cubalibrary.org/events/kids-painting-workshop/
SUMMARY:Kids Painting Workshop
DESCRIPTION:Kids in grades K - 5 are invited to join us for a creative afte
 rnoon with SerenHippity on Monday\, April 6 at 3:30 pm at the Cuba Library
  where you design your own custom Easter egg and then use watercolor paint
 s to color it in. No experience needed\, just bring your imagination. This
  program is free\, but space is limited and registration is required. Plea
 se contact the Cuba Library to sign up at cuba@stls.org\, message us on Fa
 cebook\, or call 585-968-1668.\n\nThis program is made possible by a donat
 ion from Marilee Patterer.
ATTACH;FMTTYPE=image/jpeg:https://cubalibrary.org/wp-content/uploads/2026/
 03/Kids-Painting-Workshop-Instagram-Post.png
CATEGORIES:Classes for Kids
LOCATION:Cuba Circulating Library\, 39 East Main Street\, Cuba\, NY\, 14727
 \, United States
X-APPLE-STRUCTURED-LOCATION;VALUE=URI;X-ADDRESS=39 East Main Street\, Cuba\
 , NY\, 14727\, United States;X-APPLE-RADIUS=100;X-TITLE=Cuba Circulating L
 ibrary:geo:0,0
END:VEVENT
BEGIN:VTIMEZONE
TZID:America/New_York
X-LIC-LOCATION:America/New_York
BEGIN:DAYLIGHT
DTSTART:20260308T030000
TZOFFSETFROM:-0500
TZOFFSETTO:-0400
TZNAME:EDT
END:DAYLIGHT
END:VTIMEZONE
END:VCALENDAR