BEGIN:VCALENDAR
VERSION:2.0
PRODID:-//wp-events-plugin.com//7.2.3.1//EN
TZID:America/New_York
X-WR-TIMEZONE:America/New_York
BEGIN:VEVENT
UID:3824@cubalibrary.org
DTSTART;TZID=America/New_York:20260513T180000
DTEND;TZID=America/New_York:20260513T193000
DTSTAMP:20260422T160741Z
URL:https://cubalibrary.org/events/kombucha-101/
SUMMARY:Kombucha 101
DESCRIPTION:Have you ever wondered what it takes to make your own kombucha?
  Patrons ages 16 & up are invited to join us at the Cuba Library on Wednes
 day\, May 13 from 6 - 7:30 pm as Erica Moses talks about the basics of mak
 ing kombucha. This kombucha demonstration covers everything you need to st
 art brewing at home. Participants will learn what a SCOBY is and how yeast
  and bacteria work together to ferment tea\, the history of kombucha\, equ
 ipment basics\, why tea selection matters\, how to start your first batch\
 , the difference between single batch and continuous brewing methods\, and
  how to flavor and bottle your finished kombucha. This program is free but
  in order to gauge participation registration is required. Please contact 
 Cuba Library  at (585) 968-1668 or email cuba@stls.org to sign up.\n\nEric
 a Moses is a self-taught home cook\, fermentation enthusiast\, and rural h
 omesteader who believes feeding people is a love language. She came to fer
 mentation practically — looking for cost-effective\, gut-healthy food so
 lutions for her family\, and never looked back. She now shares that knowle
 dge through classes designed to make traditional fermentation techniques a
 pproachable for everyone.
ATTACH;FMTTYPE=image/jpeg:https://cubalibrary.org/wp-content/uploads/2026/
 04/Kombucha-101-Instagram-Post.png
CATEGORIES:Lecturer/Presenter
LOCATION:Cuba Circulating Library\, 39 East Main Street\, Cuba\, NY\, 14727
 \, United States
X-APPLE-STRUCTURED-LOCATION;VALUE=URI;X-ADDRESS=39 East Main Street\, Cuba\
 , NY\, 14727\, United States;X-APPLE-RADIUS=100;X-TITLE=Cuba Circulating L
 ibrary:geo:0,0
END:VEVENT
BEGIN:VTIMEZONE
TZID:America/New_York
X-LIC-LOCATION:America/New_York
BEGIN:DAYLIGHT
DTSTART:20260308T030000
TZOFFSETFROM:-0500
TZOFFSETTO:-0400
TZNAME:EDT
END:DAYLIGHT
END:VTIMEZONE
END:VCALENDAR