BEGIN:VCALENDAR
VERSION:2.0
PRODID:-//wp-events-plugin.com//7.2.3.1//EN
TZID:America/New_York
X-WR-TIMEZONE:America/New_York
BEGIN:VEVENT
UID:2770@cubalibrary.org
DTSTART;TZID=America/New_York:20250712T140000
DTEND;TZID=America/New_York:20250712T150000
DTSTAMP:20250703T182417Z
URL:https://cubalibrary.org/events/library-tour/
SUMMARY:Library Tour
DESCRIPTION:Take a tour! As part of Alumni Weekend\, the Cuba Library will 
 offer a tour led by Director Tina Dalton to showcase our newly updated and
  renovated facility on Saturday\, July 12 at 2 pm. Reminisce about your pa
 st visits to the library and check out all of our changes\, especially the
  beautiful youth area with its play tree structure.
ATTACH;FMTTYPE=image/jpeg:https://cubalibrary.org/wp-content/uploads/2025/
 07/Library-Tour-Instagram-Post-1.png
CATEGORIES:Library Events
LOCATION:Cuba Circulating Library\, 39 East Main Street\, Cuba\, NY\, 14727
 \, United States
X-APPLE-STRUCTURED-LOCATION;VALUE=URI;X-ADDRESS=39 East Main Street\, Cuba\
 , NY\, 14727\, United States;X-APPLE-RADIUS=100;X-TITLE=Cuba Circulating L
 ibrary:geo:0,0
END:VEVENT
BEGIN:VTIMEZONE
TZID:America/New_York
X-LIC-LOCATION:America/New_York
BEGIN:DAYLIGHT
DTSTART:20250309T030000
TZOFFSETFROM:-0500
TZOFFSETTO:-0400
TZNAME:EDT
END:DAYLIGHT
END:VTIMEZONE
END:VCALENDAR