BEGIN:VCALENDAR
VERSION:2.0
PRODID:-//wp-events-plugin.com//7.2.3.1//EN
TZID:America/New_York
X-WR-TIMEZONE:America/New_York
BEGIN:VEVENT
UID:2804@cubalibrary.org
DTSTART;TZID=America/New_York:20251014T183000
DTEND;TZID=America/New_York:20251014T193000
DTSTAMP:20250925T162011Z
URL:https://cubalibrary.org/events/main-st-ghost-tour/
SUMMARY:Main St Ghost Hunt
DESCRIPTION:Have you ever wondered what history lies beyond the grave in yo
 ur small town? Well now\, you can come find out for yourself! Join us on T
 uesday\, October 14 at 6:30 pm at the Cuba Circulating Library for a walki
 ng ghost tour of some of your favorite spots in Cuba NY! Though not requir
 ed\, bring some spooky stories of your own as we close the night with a gh
 ost hunting session led by local believer\, Ry Peacock! This program is fr
 ee and open to patrons ages 16 to adult\, but registration is required. Pl
 ease contact Cuba Library at (585)968-1668\, email cuba@stls.org or messag
 e us here on Facebook.\n\nRy’s sure got some friends in strange places! 
 Life-long local\, a former employee at the Cuba Circulating Library\, and 
 a friendly face of the community\, but you may not have known that Ry has 
 a knack for all things paranormal. They’ve been a long time believer in 
 being able to capture evidence of ghostly activity and communicate with th
 e spirits that still linger from the past. Though it’s not the goal to m
 ake a believer out of you\, it sure is fun to see what’s in store! They
 ’ve hosted ghost tours and “spirit box sessions” multiple times for 
 individuals and groups in local areas like Alfred University\, and private
  sessions with friends and family. Pursuing a passion of going from amateu
 r ghost hunter to practicing paranormal investigator\, don’t be afraid t
 o join Ry on their journey of speaking with those “beyond the grave!” 
ATTACH;FMTTYPE=image/jpeg:https://cubalibrary.org/wp-content/uploads/2025/
 08/Main-St-Ghost-Hunt-instagram-Square.png
CATEGORIES:Adult Programs
LOCATION:Cuba Circulating Library\, 39 East Main Street\, Cuba\, NY\, 14727
 \, United States
X-APPLE-STRUCTURED-LOCATION;VALUE=URI;X-ADDRESS=39 East Main Street\, Cuba\
 , NY\, 14727\, United States;X-APPLE-RADIUS=100;X-TITLE=Cuba Circulating L
 ibrary:geo:0,0
END:VEVENT
BEGIN:VTIMEZONE
TZID:America/New_York
X-LIC-LOCATION:America/New_York
BEGIN:DAYLIGHT
DTSTART:20250309T030000
TZOFFSETFROM:-0500
TZOFFSETTO:-0400
TZNAME:EDT
END:DAYLIGHT
END:VTIMEZONE
END:VCALENDAR