BEGIN:VCALENDAR
VERSION:2.0
PRODID:-//wp-events-plugin.com//7.2.3.1//EN
TZID:America/New_York
X-WR-TIMEZONE:America/New_York
BEGIN:VEVENT
UID:2765@cubalibrary.org
DTSTART;TZID=America/New_York:20250804T183000
DTEND;TZID=America/New_York:20250804T193000
DTSTAMP:20250618T193434Z
URL:https://cubalibrary.org/events/mushroom-extraction-techniques/
SUMMARY:Mushroom Extraction Techniques
DESCRIPTION:Would you like to expand your knowledge of mushrooms and learn 
 to make your own mushroom extracts? This workshop covers extraction method
 s for various common medicinal mushrooms: Reishi\, Lion’s Mane\, Chaga\,
  Turkey Tail and Cordyceps. Licensed mushroom forager Samuel Warren will 
 discuss different equipment\, solvents\, and methods\, as well as a demo o
 f folk method extraction. Sam will also talk about some of the myths\, mis
 conceptions and pointers in navigating the mushroom extract industry. Sig
 n up to join the class on Monday\, August 4 at 6:30 p.m. at the Cuba Libra
 ry. This class is free and open to patrons ages 16  to adult.\n\nSamuel W
 arren is a licensed mushroom forager in 13 states\, a NYS licensed guide a
 nd head mycologist at Food Forest Fungi.\n\nThere is limited space so regi
 stration is required. Contact the library to register at cuba@stls.org or 
 call (585)968-1668.
ATTACH;FMTTYPE=image/jpeg:https://cubalibrary.org/wp-content/uploads/2025/
 06/Mushroom-Extraction-Instagram-Post-Square.png
CATEGORIES:Lecturer/Presenter
LOCATION:Cuba Circulating Library\, 39 East Main Street\, Cuba\, NY\, 14727
 \, United States
X-APPLE-STRUCTURED-LOCATION;VALUE=URI;X-ADDRESS=39 East Main Street\, Cuba\
 , NY\, 14727\, United States;X-APPLE-RADIUS=100;X-TITLE=Cuba Circulating L
 ibrary:geo:0,0
END:VEVENT
BEGIN:VTIMEZONE
TZID:America/New_York
X-LIC-LOCATION:America/New_York
BEGIN:DAYLIGHT
DTSTART:20250309T030000
TZOFFSETFROM:-0500
TZOFFSETTO:-0400
TZNAME:EDT
END:DAYLIGHT
END:VTIMEZONE
END:VCALENDAR