BEGIN:VCALENDAR
VERSION:2.0
PRODID:-//wp-events-plugin.com//7.2.3.1//EN
TZID:America/New_York
X-WR-TIMEZONE:America/New_York
BEGIN:VEVENT
UID:2751@cubalibrary.org
DTSTART;TZID=America/New_York:20250707T150000
DTEND;TZID=America/New_York:20250707T160000
DTSTAMP:20250616T200934Z
URL:https://cubalibrary.org/events/paint-sip-teens-tweens/
SUMMARY:Paint & Sip Teens & Tweens
DESCRIPTION:Teens & Tweens ages 9 - 18 are invited to join us for a low-key
  afternoon of painting. Attendees will be given a 12 x 12 canvas and will 
 be permitted to paint whatever subject matter suits their interests (as lo
 ng as it is “family friendly\,” obviously). We will have juices availa
 ble for sipping. This program is free\, but space is limited and registrat
 ion is required. Please contact Cuba Library at (585)968-1668 or email cub
 a@stls.org to sign up.
ATTACH;FMTTYPE=image/jpeg:https://cubalibrary.org/wp-content/uploads/2025/
 06/Paint-Sip-Teens-Instagram-Post.png
CATEGORIES:Teen Programs
LOCATION:Cuba Circulating Library\, 39 East Main Street\, Cuba\, NY\, 14727
 \, United States
X-APPLE-STRUCTURED-LOCATION;VALUE=URI;X-ADDRESS=39 East Main Street\, Cuba\
 , NY\, 14727\, United States;X-APPLE-RADIUS=100;X-TITLE=Cuba Circulating L
 ibrary:geo:0,0
END:VEVENT
BEGIN:VTIMEZONE
TZID:America/New_York
X-LIC-LOCATION:America/New_York
BEGIN:DAYLIGHT
DTSTART:20250309T030000
TZOFFSETFROM:-0500
TZOFFSETTO:-0400
TZNAME:EDT
END:DAYLIGHT
END:VTIMEZONE
END:VCALENDAR