BEGIN:VCALENDAR
VERSION:2.0
PRODID:-//wp-events-plugin.com//7.2.3.1//EN
TZID:America/New_York
X-WR-TIMEZONE:America/New_York
BEGIN:VEVENT
UID:2730@cubalibrary.org
DTSTART;TZID=America/New_York:20250517T133000
DTEND;TZID=America/New_York:20250517T143000
DTSTAMP:20250423T193400Z
URL:https://cubalibrary.org/events/pet-cents/
SUMMARY:Pet Cents
DESCRIPTION:Join Miss Cherilyn on Saturday\, May 17 at 1:30 pm at the Cuba 
 Library for a Family Financial Literacy Game. Participants in family teams
  will  adopt a pet—and take on the financial responsibilities of pet own
 ership—as they visit various stations around the room. At each stop\, pl
 ayers engage in financial transactions\, spending and receiving money unti
 l the timer runs out. All transactions are tracked on the player’s Pet C
 ard. The goal of the game is to meet a pet’s needs while retaining as mu
 ch money as possible.  This game is geared toward children ages 5-12 but s
 ince each family will be a team\, all ages are welcome. The materials for 
 this program were provided by a grant from ALA and FINRA.
ATTACH;FMTTYPE=image/jpeg:https://cubalibrary.org/wp-content/uploads/2025/
 04/Pet-Cents-TM4K-Instagram-Post-Square.png
CATEGORIES:Children's Programs
LOCATION:Cuba Circulating Library\, 39 East Main Street\, Cuba\, NY\, 14727
 \, United States
X-APPLE-STRUCTURED-LOCATION;VALUE=URI;X-ADDRESS=39 East Main Street\, Cuba\
 , NY\, 14727\, United States;X-APPLE-RADIUS=100;X-TITLE=Cuba Circulating L
 ibrary:geo:0,0
END:VEVENT
BEGIN:VTIMEZONE
TZID:America/New_York
X-LIC-LOCATION:America/New_York
BEGIN:DAYLIGHT
DTSTART:20250309T030000
TZOFFSETFROM:-0500
TZOFFSETTO:-0400
TZNAME:EDT
END:DAYLIGHT
END:VTIMEZONE
END:VCALENDAR