BEGIN:VCALENDAR
VERSION:2.0
PRODID:-//wp-events-plugin.com//7.2.3.1//EN
TZID:America/New_York
X-WR-TIMEZONE:America/New_York
BEGIN:VEVENT
UID:2801@cubalibrary.org
DTSTART;TZID=America/New_York:20251004T130000
DTEND;TZID=America/New_York:20251004T140000
DTSTAMP:20250915T164504Z
URL:https://cubalibrary.org/events/piggy-bank-theater-tm4k/
SUMMARY:Piggy Bank Theater - TM4K
DESCRIPTION:Children ages 5 - 12 (and their families) are invited to join M
 iss Cherilyn on Saturday\, October 4 at 1:00 pm at the Cuba Library for a 
 Family Financial Literacy Game. In this twist on the classic storytime\, a
 udience members learn how three young characters— Kenji\, Grace\, and Em
 ma—build their childhood interests into successful careers\, making fina
 ncial choices along the way. During the story\, audience members are encou
 raged to respond whenever a character earns\, spends\, or saves money by r
 aising a paddle (for earning and spending) or by cueing the facilitator to
  put a coin in the piggy bank (for saving). This game is geared toward chi
 ldren as young as 3 but since each family will be a team\, all ages are we
 lcome. Please contact Cuba Library at (585)968-1668 or email cuba@stls.org
  to sign up. The materials for this program were provided by a grant from 
 ALA and FINRA.
CATEGORIES:Children's Programs
LOCATION:Cuba Circulating Library\, 39 East Main Street\, Cuba\, NY\, 14727
 \, United States
X-APPLE-STRUCTURED-LOCATION;VALUE=URI;X-ADDRESS=39 East Main Street\, Cuba\
 , NY\, 14727\, United States;X-APPLE-RADIUS=100;X-TITLE=Cuba Circulating L
 ibrary:geo:0,0
END:VEVENT
BEGIN:VTIMEZONE
TZID:America/New_York
X-LIC-LOCATION:America/New_York
BEGIN:DAYLIGHT
DTSTART:20250309T030000
TZOFFSETFROM:-0500
TZOFFSETTO:-0400
TZNAME:EDT
END:DAYLIGHT
END:VTIMEZONE
END:VCALENDAR