BEGIN:VCALENDAR
VERSION:2.0
PRODID:-//wp-events-plugin.com//7.2.3.1//EN
TZID:America/New_York
X-WR-TIMEZONE:America/New_York
BEGIN:VEVENT
UID:2734@cubalibrary.org
DTSTART;TZID=America/New_York:20250624T183000
DTEND;TZID=America/New_York:20250624T193000
DTSTAMP:20250604T195123Z
URL:https://cubalibrary.org/events/pocket-vinyl-2/
SUMMARY:Pocket Vinyl
DESCRIPTION:You've never seen an act like Pocket Vinyl.\n\nThey're a duo co
 nsisting of a one-man-piano-band (Eric) coupled with a painter (Elizabeth)
 \, who creates a work of art on stage during the show. Every painting and 
 show is unique. Between non-depressing songs about death and defiant melod
 ies of hope\, Eric entertains the audience with emotional stories and hila
 rious anecdotes bordering on stand-up comedy.\n\nThey've created a full-le
 ngth feature documentary (Drive. Play. Sleep.)\, have an ongoing autobiogr
 aphical comic strip (The Touring Test)\, released over 10 albums and 200 s
 ongs\, and have played nearly 1200 shows. Currently\, they're working on r
 eleasing 4 cover albums throughout 2025.\n\nThis show\, on Tuesday\, June 
 24 at 6:30 pm at Cuba Library\, is free and open to all ages. \n\nThere ar
 e few bands as eclectic\, creative\, and ambitious as Pocket Vinyl. They'r
 e very much worth your time. Come to a show. Bid on a painting. Be a part 
 of it all.
ATTACH;FMTTYPE=image/jpeg:https://cubalibrary.org/wp-content/uploads/2025/
 05/Pocket-Vinyl-2025-Instagram-Post.png
CATEGORIES:Lecturer/Presenter
LOCATION:Cuba Circulating Library\, 39 East Main Street\, Cuba\, NY\, 14727
 \, United States
X-APPLE-STRUCTURED-LOCATION;VALUE=URI;X-ADDRESS=39 East Main Street\, Cuba\
 , NY\, 14727\, United States;X-APPLE-RADIUS=100;X-TITLE=Cuba Circulating L
 ibrary:geo:0,0
END:VEVENT
BEGIN:VTIMEZONE
TZID:America/New_York
X-LIC-LOCATION:America/New_York
BEGIN:DAYLIGHT
DTSTART:20250309T030000
TZOFFSETFROM:-0500
TZOFFSETTO:-0400
TZNAME:EDT
END:DAYLIGHT
END:VTIMEZONE
END:VCALENDAR