BEGIN:VCALENDAR
VERSION:2.0
PRODID:-//wp-events-plugin.com//7.2.3.1//EN
TZID:America/New_York
X-WR-TIMEZONE:America/New_York
BEGIN:VEVENT
UID:3653@cubalibrary.org
DTSTART;TZID=America/New_York:20260212T183000
DTEND;TZID=America/New_York:20260212T193000
DTSTAMP:20260121T194430Z
URL:https://cubalibrary.org/events/romance-readers-book-club/
SUMMARY:Romance Readers Book Club
DESCRIPTION:Love is in the air. Are you a romance reader looking for a like
 -minded group to discuss your favorite books? Come to the Cuba Library on 
 Thursday\, February 12 at 6:30 pm for an informal first meeting to discuss
  the possibilities. As a group\, potential members will work out the detai
 ls of which books to read\, exactly which day and time will work best to m
 eet each month\, and more. If a romance book club sounds like something yo
 u'd be interested in\, please join us for a chat!
ATTACH;FMTTYPE=image/jpeg:https://cubalibrary.org/wp-content/uploads/2026/
 01/Romance-Book-Club-Instagram-Post.png
CATEGORIES:Book Discussion
LOCATION:Cuba Circulating Library\, 39 East Main Street\, Cuba\, NY\, 14727
 \, United States
X-APPLE-STRUCTURED-LOCATION;VALUE=URI;X-ADDRESS=39 East Main Street\, Cuba\
 , NY\, 14727\, United States;X-APPLE-RADIUS=100;X-TITLE=Cuba Circulating L
 ibrary:geo:0,0
END:VEVENT
BEGIN:VTIMEZONE
TZID:America/New_York
X-LIC-LOCATION:America/New_York
BEGIN:STANDARD
DTSTART:20251102T010000
TZOFFSETFROM:-0400
TZOFFSETTO:-0500
TZNAME:EST
END:STANDARD
END:VTIMEZONE
END:VCALENDAR