BEGIN:VCALENDAR
VERSION:2.0
PRODID:-//wp-events-plugin.com//7.2.3.1//EN
TZID:America/New_York
X-WR-TIMEZONE:America/New_York
BEGIN:VEVENT
UID:2774@cubalibrary.org
DTSTART;TZID=America/New_York:20250821T130000
DTEND;TZID=America/New_York:20250821T140000
DTSTAMP:20250815T202002Z
URL:https://cubalibrary.org/events/save-energy-save-dollars/
SUMMARY:Save Energy Save Dollars -canceled
DESCRIPTION:Join us on Thursday\, August 21 at 1 pm at the Cuba Library for
  a presentation by the WNY Clean Energy Hub to learn more ways to make you
 r home more efficient and receive a free energy savings kit for your own h
 ome! Participants will learn how energy is used in your home\, new energy 
 saving habits that can be easily implemented\, and label and bill reading 
 techniques. This program is free and open to everyone\, but registration i
 s required. Please call the library at (585)968-1668\, message us on Faceb
 ook\, or email cuba@stls.org to sign up.
ATTACH;FMTTYPE=image/jpeg:https://cubalibrary.org/wp-content/uploads/2025/
 07/Save-Energy-Save-Dollars-Instagram-Post.png
CATEGORIES:Adult Programs
LOCATION:Cuba Circulating Library\, 39 East Main Street\, Cuba\, NY\, 14727
 \, United States
X-APPLE-STRUCTURED-LOCATION;VALUE=URI;X-ADDRESS=39 East Main Street\, Cuba\
 , NY\, 14727\, United States;X-APPLE-RADIUS=100;X-TITLE=Cuba Circulating L
 ibrary:geo:0,0
END:VEVENT
BEGIN:VTIMEZONE
TZID:America/New_York
X-LIC-LOCATION:America/New_York
BEGIN:DAYLIGHT
DTSTART:20250309T030000
TZOFFSETFROM:-0500
TZOFFSETTO:-0400
TZNAME:EDT
END:DAYLIGHT
END:VTIMEZONE
END:VCALENDAR