BEGIN:VCALENDAR
VERSION:2.0
PRODID:-//wp-events-plugin.com//7.2.3.1//EN
TZID:America/New_York
X-WR-TIMEZONE:America/New_York
BEGIN:VEVENT
UID:2762@cubalibrary.org
DTSTART;TZID=America/New_York:20250728T150000
DTEND;TZID=America/New_York:20250728T160000
DTSTAMP:20250617T191825Z
URL:https://cubalibrary.org/events/snap-ed-family-nutrition/
SUMMARY:SNAP-Ed Family Nutrition
DESCRIPTION:Sign your family up for our Snap-Ed nutrition class for all age
 s which takes place on Monday\, July 28 at 3 pm at the Cuba Library. Nutri
 tionist Michael Nelson gives insights into health and nutrition. She will 
 have information on the importance of eating a variety of foods\, easy way
 s to make smart food choices\, and will also share budget savvy ideas to f
 ind a balance in your diet and develop a healthy eating style. Space in th
 e class is limited\, and registration is required. Please contact the Cuba
  Library at (585)968-1668\, email cuba@stls.org or contact us on Facebook.
 \nThis class is taught by Michael Nelson\, Snap-Ed Nutritionist from the C
 ornell Cooperative Extension of Allegany County.
ATTACH;FMTTYPE=image/jpeg:https://cubalibrary.org/wp-content/uploads/2025/
 06/SNAP-ed-Nutrition-Sq-SUmmer.png
CATEGORIES:Family Programs
LOCATION:Cuba Circulating Library\, 39 East Main Street\, Cuba\, NY\, 14727
 \, United States
X-APPLE-STRUCTURED-LOCATION;VALUE=URI;X-ADDRESS=39 East Main Street\, Cuba\
 , NY\, 14727\, United States;X-APPLE-RADIUS=100;X-TITLE=Cuba Circulating L
 ibrary:geo:0,0
END:VEVENT
BEGIN:VTIMEZONE
TZID:America/New_York
X-LIC-LOCATION:America/New_York
BEGIN:DAYLIGHT
DTSTART:20250309T030000
TZOFFSETFROM:-0500
TZOFFSETTO:-0400
TZNAME:EDT
END:DAYLIGHT
END:VTIMEZONE
END:VCALENDAR