BEGIN:VCALENDAR
VERSION:2.0
PRODID:-//wp-events-plugin.com//7.2.3.1//EN
TZID:America/New_York
X-WR-TIMEZONE:America/New_York
BEGIN:VEVENT
UID:3255@cubalibrary.org
DTSTART;TZID=America/New_York:20251025T100000
DTEND;TZID=America/New_York:20251025T120000
DTSTAMP:20251002T181453Z
URL:https://cubalibrary.org/events/spooky-paintings/
SUMMARY:Spooky Paintings
DESCRIPTION:Join us on Saturday\, October 25 from 10 am - 12 pm at the Cuba
  Library to unleash your creativity and embrace the eerie side of art in t
 his hands-on class! Participants will take existing paintings and transfor
 m them into spooky masterpieces by painting over them with ghostly figures
 \, haunted landscapes\, or other chilling elements. Learn tips for layerin
 g and adding atmospheric effects to create depth and intrigue. This progra
 m welcomes artists of all levels and encourages playful experimentation. W
 e will have pictures available\, but participants are welcome to bring the
 ir own paintings to reimagine. Perfect for the Halloween season or anyone 
 who loves a creative challenge! This program is free and open to adults. A
 ll materials will be provided. Space is limited and registration is requir
 ed. Please contact Cuba Library at (585)968-1668 or email cuba@stls.org to
  sign up.
ATTACH;FMTTYPE=image/jpeg:https://cubalibrary.org/wp-content/uploads/2025/
 10/Spooky-Paintings-Instagram-Post.png
CATEGORIES:Craft Classes
LOCATION:Cuba Circulating Library\, 39 East Main Street\, Cuba\, NY\, 14727
 \, United States
X-APPLE-STRUCTURED-LOCATION;VALUE=URI;X-ADDRESS=39 East Main Street\, Cuba\
 , NY\, 14727\, United States;X-APPLE-RADIUS=100;X-TITLE=Cuba Circulating L
 ibrary:geo:0,0
END:VEVENT
BEGIN:VTIMEZONE
TZID:America/New_York
X-LIC-LOCATION:America/New_York
BEGIN:DAYLIGHT
DTSTART:20250309T030000
TZOFFSETFROM:-0500
TZOFFSETTO:-0400
TZNAME:EDT
END:DAYLIGHT
END:VTIMEZONE
END:VCALENDAR